BEGIN:VCALENDAR
VERSION:2.0
PRODID:-//Barrette Graphics - ECPv6.15.20//NONSGML v1.0//EN
CALSCALE:GREGORIAN
METHOD:PUBLISH
X-ORIGINAL-URL:https://barrettegraphics.com
X-WR-CALDESC:Events for Barrette Graphics
REFRESH-INTERVAL;VALUE=DURATION:PT1H
X-Robots-Tag:noindex
X-PUBLISHED-TTL:PT1H
BEGIN:VTIMEZONE
TZID:America/Denver
BEGIN:DAYLIGHT
TZOFFSETFROM:-0700
TZOFFSETTO:-0600
TZNAME:MDT
DTSTART:20240310T090000
END:DAYLIGHT
BEGIN:STANDARD
TZOFFSETFROM:-0600
TZOFFSETTO:-0700
TZNAME:MST
DTSTART:20241103T080000
END:STANDARD
BEGIN:DAYLIGHT
TZOFFSETFROM:-0700
TZOFFSETTO:-0600
TZNAME:MDT
DTSTART:20250309T090000
END:DAYLIGHT
BEGIN:STANDARD
TZOFFSETFROM:-0600
TZOFFSETTO:-0700
TZNAME:MST
DTSTART:20251102T080000
END:STANDARD
BEGIN:DAYLIGHT
TZOFFSETFROM:-0700
TZOFFSETTO:-0600
TZNAME:MDT
DTSTART:20260308T090000
END:DAYLIGHT
BEGIN:STANDARD
TZOFFSETFROM:-0600
TZOFFSETTO:-0700
TZNAME:MST
DTSTART:20261101T080000
END:STANDARD
END:VTIMEZONE
BEGIN:VEVENT
DTSTART;TZID=America/Denver:20250601T090000
DTEND;TZID=America/Denver:20250731T170000
DTSTAMP:20260422T164019
CREATED:20250624T043548Z
LAST-MODIFIED:20250624T043548Z
UID:1763-1748768400-1753981200@barrettegraphics.com
SUMMARY:PPLD Summer Adventure
DESCRIPTION:The 2025 PPLD Summer Adventure presented by Friends of Pikes Peak Library District\, runs through Thursday\, July 31 at all library locations. This year’s theme is Color Our World. People of all ages can read\, explore\, and create their way to prizes this summer.\n  Anyone ages 0 – 18 participating in this year’s Summer Adventure program will receive a book for registering and can earn another prize when they complete the program. Studies have shown that having books at home increases literacy and learning for kids and teens\, and that students who read over summer break retain more of their learning and have a stronger start when school resumes in the fall. Participants ages 19 and up will receive one entry into the grand prize drawing when they register. Everyone of all ages will also be entered into the grand prize drawing for complete 30 days of reading\, creating\, or exploring.\n Participants can find activity ideas at ppld.org/summer
URL:https://barrettegraphics.com/event/ppld-summer-adventure/
CATEGORIES:Family
END:VEVENT
END:VCALENDAR