BEGIN:VCALENDAR
VERSION:2.0
PRODID:-//Barrette Graphics - ECPv6.15.20//NONSGML v1.0//EN
CALSCALE:GREGORIAN
METHOD:PUBLISH
X-ORIGINAL-URL:https://barrettegraphics.com
X-WR-CALDESC:Events for Barrette Graphics
REFRESH-INTERVAL;VALUE=DURATION:PT1H
X-Robots-Tag:noindex
X-PUBLISHED-TTL:PT1H
BEGIN:VTIMEZONE
TZID:America/Denver
BEGIN:DAYLIGHT
TZOFFSETFROM:-0700
TZOFFSETTO:-0600
TZNAME:MDT
DTSTART:20240310T090000
END:DAYLIGHT
BEGIN:STANDARD
TZOFFSETFROM:-0600
TZOFFSETTO:-0700
TZNAME:MST
DTSTART:20241103T080000
END:STANDARD
BEGIN:DAYLIGHT
TZOFFSETFROM:-0700
TZOFFSETTO:-0600
TZNAME:MDT
DTSTART:20250309T090000
END:DAYLIGHT
BEGIN:STANDARD
TZOFFSETFROM:-0600
TZOFFSETTO:-0700
TZNAME:MST
DTSTART:20251102T080000
END:STANDARD
BEGIN:DAYLIGHT
TZOFFSETFROM:-0700
TZOFFSETTO:-0600
TZNAME:MDT
DTSTART:20260308T090000
END:DAYLIGHT
BEGIN:STANDARD
TZOFFSETFROM:-0600
TZOFFSETTO:-0700
TZNAME:MST
DTSTART:20261101T080000
END:STANDARD
END:VTIMEZONE
BEGIN:VEVENT
DTSTART;TZID=America/Denver:20250412T140000
DTEND;TZID=America/Denver:20250412T150000
DTSTAMP:20260425T141528
CREATED:20250328T205220Z
LAST-MODIFIED:20250328T205220Z
UID:1520-1744466400-1744470000@barrettegraphics.com
SUMMARY:The Lightning Thief
DESCRIPTION:Presented by Lewis-Palmer High School Theater Department. “The Lightning Thief” is a musical based on the Percy Jackson book series. Percy Jackson is a teenage boy who gets into trouble until he learns he’s a demigod. Along with Annabeth and Grover\, he embarks on a quest to retrieve Zeus’ stolen lightning bolt and prevent war among the gods. Tickets available online at www.cur8.com/projects or at the LPHS box office.
URL:https://barrettegraphics.com/event/the-lightning-thief-5/
CATEGORIES:Theater
END:VEVENT
BEGIN:VEVENT
DTSTART;TZID=America/Denver:20250412T190000
DTEND;TZID=America/Denver:20250412T200000
DTSTAMP:20260425T141528
CREATED:20250328T205220Z
LAST-MODIFIED:20250328T205220Z
UID:1519-1744484400-1744488000@barrettegraphics.com
SUMMARY:The Lightning Thief
DESCRIPTION:Presented by Lewis-Palmer High School Theater Department. “The Lightning Thief” is a musical based on the Percy Jackson book series. Percy Jackson is a teenage boy who gets into trouble until he learns he’s a demigod. Along with Annabeth and Grover\, he embarks on a quest to retrieve Zeus’ stolen lightning bolt and prevent war among the gods. Tickets available online at www.cur8.com/projects or at the LPHS box office.
URL:https://barrettegraphics.com/event/the-lightning-thief-4/
CATEGORIES:Theater
END:VEVENT
END:VCALENDAR