BEGIN:VCALENDAR
VERSION:2.0
PRODID:-//Barrette Graphics - ECPv6.15.20//NONSGML v1.0//EN
CALSCALE:GREGORIAN
METHOD:PUBLISH
X-WR-CALNAME:Barrette Graphics
X-ORIGINAL-URL:https://barrettegraphics.com
X-WR-CALDESC:Events for Barrette Graphics
REFRESH-INTERVAL;VALUE=DURATION:PT1H
X-Robots-Tag:noindex
X-PUBLISHED-TTL:PT1H
BEGIN:VTIMEZONE
TZID:America/Denver
BEGIN:DAYLIGHT
TZOFFSETFROM:-0700
TZOFFSETTO:-0600
TZNAME:MDT
DTSTART:20240310T090000
END:DAYLIGHT
BEGIN:STANDARD
TZOFFSETFROM:-0600
TZOFFSETTO:-0700
TZNAME:MST
DTSTART:20241103T080000
END:STANDARD
BEGIN:DAYLIGHT
TZOFFSETFROM:-0700
TZOFFSETTO:-0600
TZNAME:MDT
DTSTART:20250309T090000
END:DAYLIGHT
BEGIN:STANDARD
TZOFFSETFROM:-0600
TZOFFSETTO:-0700
TZNAME:MST
DTSTART:20251102T080000
END:STANDARD
BEGIN:DAYLIGHT
TZOFFSETFROM:-0700
TZOFFSETTO:-0600
TZNAME:MDT
DTSTART:20260308T090000
END:DAYLIGHT
BEGIN:STANDARD
TZOFFSETFROM:-0600
TZOFFSETTO:-0700
TZNAME:MST
DTSTART:20261101T080000
END:STANDARD
END:VTIMEZONE
BEGIN:VEVENT
DTSTART;TZID=America/Denver:20250726T080000
DTEND;TZID=America/Denver:20250726T160000
DTSTAMP:20260421T082644
CREATED:20250624T043549Z
LAST-MODIFIED:20250624T043549Z
UID:1766-1753516800-1753545600@barrettegraphics.com
SUMMARY:Woodmoor Chipping Day (Sat)
DESCRIPTION:Woodmoor Chipping Days will be July 26 & 27 at Lewis Palmer High School. The event will run from 8 a.m. to 4 p.m. on Saturday and 8 a.m. to 2 p.m. on Sunday.\n All residents are encouraged to participate in Chipping Days. Residents are also encouraged to let friends that live in other communities around Woodmoor know that they can also participate in the chipping event.  The chipping event is free to all Woodmoor residents\, and $5 from non-residents.\nIf you have further questions\, please contact Justin at 719-488-2693 x 4 or by email at justin@woodmoor.org
URL:https://barrettegraphics.com/event/woodmoor-chipping-day-sat/
LOCATION:CO
CATEGORIES:Outdoor
END:VEVENT
END:VCALENDAR