BEGIN:VCALENDAR
VERSION:2.0
PRODID:-//Barrette Graphics - ECPv6.15.20//NONSGML v1.0//EN
CALSCALE:GREGORIAN
METHOD:PUBLISH
X-WR-CALNAME:Barrette Graphics
X-ORIGINAL-URL:https://barrettegraphics.com
X-WR-CALDESC:Events for Barrette Graphics
REFRESH-INTERVAL;VALUE=DURATION:PT1H
X-Robots-Tag:noindex
X-PUBLISHED-TTL:PT1H
BEGIN:VTIMEZONE
TZID:America/Denver
BEGIN:DAYLIGHT
TZOFFSETFROM:-0700
TZOFFSETTO:-0600
TZNAME:MDT
DTSTART:20240310T090000
END:DAYLIGHT
BEGIN:STANDARD
TZOFFSETFROM:-0600
TZOFFSETTO:-0700
TZNAME:MST
DTSTART:20241103T080000
END:STANDARD
BEGIN:DAYLIGHT
TZOFFSETFROM:-0700
TZOFFSETTO:-0600
TZNAME:MDT
DTSTART:20250309T090000
END:DAYLIGHT
BEGIN:STANDARD
TZOFFSETFROM:-0600
TZOFFSETTO:-0700
TZNAME:MST
DTSTART:20251102T080000
END:STANDARD
BEGIN:DAYLIGHT
TZOFFSETFROM:-0700
TZOFFSETTO:-0600
TZNAME:MDT
DTSTART:20260308T090000
END:DAYLIGHT
BEGIN:STANDARD
TZOFFSETFROM:-0600
TZOFFSETTO:-0700
TZNAME:MST
DTSTART:20261101T080000
END:STANDARD
END:VTIMEZONE
BEGIN:VEVENT
DTSTART;TZID=America/Denver:20250418T200000
DTEND;TZID=America/Denver:20250418T210000
DTSTAMP:20260421T131024
CREATED:20250328T211723Z
LAST-MODIFIED:20250328T211723Z
UID:1533-1745006400-1745010000@barrettegraphics.com
SUMMARY:Nighttime EGG-stravaganza
DESCRIPTION:Participate in the glow-in-the-dark egg hunt at Fox Run Regional Park. Work with a team of 2–6 to find eggs containing clues to win a prize. Recommended for ages 8+. Prepaid registration required for specific time slots.
URL:https://barrettegraphics.com/event/nighttime-egg-stravaganza-5/
LOCATION:CO
CATEGORIES:Family,Outdoor
END:VEVENT
BEGIN:VEVENT
DTSTART;TZID=America/Denver:20250418T201000
DTEND;TZID=America/Denver:20250418T211000
DTSTAMP:20260421T131024
CREATED:20250328T211724Z
LAST-MODIFIED:20250328T211724Z
UID:1534-1745007000-1745010600@barrettegraphics.com
SUMMARY:Nighttime EGG-stravaganza
DESCRIPTION:Participate in the glow-in-the-dark egg hunt at Fox Run Regional Park. Work with a team of 2–6 to find eggs containing clues to win a prize. Recommended for ages 8+. Prepaid registration required for specific time slots.
URL:https://barrettegraphics.com/event/nighttime-egg-stravaganza-6/
LOCATION:CO
CATEGORIES:Family,Outdoor
END:VEVENT
BEGIN:VEVENT
DTSTART;TZID=America/Denver:20250418T202000
DTEND;TZID=America/Denver:20250418T212000
DTSTAMP:20260421T131024
CREATED:20250328T211724Z
LAST-MODIFIED:20250328T211724Z
UID:1535-1745007600-1745011200@barrettegraphics.com
SUMMARY:Nighttime EGG-stravaganza
DESCRIPTION:Participate in the glow-in-the-dark egg hunt at Fox Run Regional Park. Work with a team of 2–6 to find eggs containing clues to win a prize. Recommended for ages 8+. Prepaid registration required for specific time slots.
URL:https://barrettegraphics.com/event/nighttime-egg-stravaganza-7/
LOCATION:CO
CATEGORIES:Family,Outdoor
END:VEVENT
BEGIN:VEVENT
DTSTART;TZID=America/Denver:20250418T203000
DTEND;TZID=America/Denver:20250418T213000
DTSTAMP:20260421T131024
CREATED:20250328T211724Z
LAST-MODIFIED:20250328T211724Z
UID:1536-1745008200-1745011800@barrettegraphics.com
SUMMARY:Nighttime EGG-stravaganza
DESCRIPTION:Participate in the glow-in-the-dark egg hunt at Fox Run Regional Park. Work with a team of 2–6 to find eggs containing clues to win a prize. Recommended for ages 8+. Prepaid registration required for specific time slots.
URL:https://barrettegraphics.com/event/nighttime-egg-stravaganza-8/
LOCATION:CO
CATEGORIES:Family,Outdoor
END:VEVENT
END:VCALENDAR