BEGIN:VCALENDAR
VERSION:2.0
PRODID:-//Barrette Graphics - ECPv6.15.20//NONSGML v1.0//EN
CALSCALE:GREGORIAN
METHOD:PUBLISH
X-WR-CALNAME:Barrette Graphics
X-ORIGINAL-URL:https://barrettegraphics.com
X-WR-CALDESC:Events for Barrette Graphics
REFRESH-INTERVAL;VALUE=DURATION:PT1H
X-Robots-Tag:noindex
X-PUBLISHED-TTL:PT1H
BEGIN:VTIMEZONE
TZID:America/Denver
BEGIN:DAYLIGHT
TZOFFSETFROM:-0700
TZOFFSETTO:-0600
TZNAME:MDT
DTSTART:20250309T090000
END:DAYLIGHT
BEGIN:STANDARD
TZOFFSETFROM:-0600
TZOFFSETTO:-0700
TZNAME:MST
DTSTART:20251102T080000
END:STANDARD
BEGIN:DAYLIGHT
TZOFFSETFROM:-0700
TZOFFSETTO:-0600
TZNAME:MDT
DTSTART:20260308T090000
END:DAYLIGHT
BEGIN:STANDARD
TZOFFSETFROM:-0600
TZOFFSETTO:-0700
TZNAME:MST
DTSTART:20261101T080000
END:STANDARD
BEGIN:DAYLIGHT
TZOFFSETFROM:-0700
TZOFFSETTO:-0600
TZNAME:MDT
DTSTART:20270314T090000
END:DAYLIGHT
BEGIN:STANDARD
TZOFFSETFROM:-0600
TZOFFSETTO:-0700
TZNAME:MST
DTSTART:20271107T080000
END:STANDARD
END:VTIMEZONE
BEGIN:VEVENT
DTSTART;TZID=America/Denver:20260528T090000
DTEND;TZID=America/Denver:20260528T160000
DTSTAMP:20260423T002918
CREATED:20260422T175452Z
LAST-MODIFIED:20260422T175452Z
UID:2513-1779958800-1779984000@barrettegraphics.com
SUMMARY:Picnic & Planes
DESCRIPTION:The Western Museum of Mining is honored to be the Air Force Academy’s neighbor…and lucky too! The Mining Museum is the perfect place to watch the amazing aerial acrobatics of the U.S. Air Force Thunderbirds.\n\nWe suggest you bring your own chairs\, blankets\, and sunscreen. Feel free to bring a picnic or purchase from one of our food trucks. Let WMMI provide the location for you to experience the mighty Thunderbirds soaring overhead!
URL:https://barrettegraphics.com/event/picnic-planes/
LOCATION:Western Museum of Mining and Industry\, 225 Northgate Blvd\, Colorado Springs\, CO\, 80921\, United States
CATEGORIES:Community Events,Family,Military
END:VEVENT
END:VCALENDAR