BEGIN:VCALENDAR
VERSION:2.0
PRODID:-//Barrette Graphics - ECPv6.15.20//NONSGML v1.0//EN
CALSCALE:GREGORIAN
METHOD:PUBLISH
X-ORIGINAL-URL:https://barrettegraphics.com
X-WR-CALDESC:Events for Barrette Graphics
REFRESH-INTERVAL;VALUE=DURATION:PT1H
X-Robots-Tag:noindex
X-PUBLISHED-TTL:PT1H
BEGIN:VTIMEZONE
TZID:America/Denver
BEGIN:DAYLIGHT
TZOFFSETFROM:-0700
TZOFFSETTO:-0600
TZNAME:MDT
DTSTART:20240310T090000
END:DAYLIGHT
BEGIN:STANDARD
TZOFFSETFROM:-0600
TZOFFSETTO:-0700
TZNAME:MST
DTSTART:20241103T080000
END:STANDARD
BEGIN:DAYLIGHT
TZOFFSETFROM:-0700
TZOFFSETTO:-0600
TZNAME:MDT
DTSTART:20250309T090000
END:DAYLIGHT
BEGIN:STANDARD
TZOFFSETFROM:-0600
TZOFFSETTO:-0700
TZNAME:MST
DTSTART:20251102T080000
END:STANDARD
BEGIN:DAYLIGHT
TZOFFSETFROM:-0700
TZOFFSETTO:-0600
TZNAME:MDT
DTSTART:20260308T090000
END:DAYLIGHT
BEGIN:STANDARD
TZOFFSETFROM:-0600
TZOFFSETTO:-0700
TZNAME:MST
DTSTART:20261101T080000
END:STANDARD
END:VTIMEZONE
BEGIN:VEVENT
DTSTART;TZID=America/Denver:20250913T120000
DTEND;TZID=America/Denver:20250913T170000
DTSTAMP:20260423T055614
CREATED:20250829T195411Z
LAST-MODIFIED:20260128T163208Z
UID:1868-1757764800-1757782800@barrettegraphics.com
SUMMARY:Sixth Annual 2025 Palmer Lake Wine Festival
DESCRIPTION:Spend your day in beautiful Palmer Lake\, and enjoy tastings from over 25 Colorado wineries with live music\, food & gift vendors. The first 1\,000 attendees will receive a FREE Palmer Lake Wine Festival souvenir tasting glass AND wine tote! VIP tickets give you early access to the festivities\, exclusive tastings\, private bathrooms\, and a private covered tent. \nDATE: Saturday\, September 13 \nLOCATION:  Palmer Lake Recreation Area \nHOURS: \n\nVIP Hour: 12pm-1pm\nGeneral Admission: 1pm-5pm\nNo admission after 4:00pm.\n\nAll participants must be 21 years of age or older. \nhttps://palmerlakewinefestival.ticketspice.com/2025-palmer-lake-wine-festival to purchase tickets
URL:https://barrettegraphics.com/event/sixth-annual-2025-palmer-lake-wine-festival/
LOCATION:Palmer Lake\, 199 County Line Rd\, Palmer Lake\, CO\, 80133\, United States
CATEGORIES:Community Events,Festival,Live Music,Outdoor
END:VEVENT
BEGIN:VEVENT
DTSTART;TZID=America/Denver:20251213T140000
DTEND;TZID=America/Denver:20251213T140000
DTSTAMP:20260423T055614
CREATED:20251126T044657Z
LAST-MODIFIED:20260128T163147Z
UID:1944-1765634400-1765634400@barrettegraphics.com
SUMMARY:Christmas This Year: Matinee
DESCRIPTION:Family variety show presented by Friends of Club 21\, highlighting gifts and talents of the Down syndrome and special needs community.
URL:https://barrettegraphics.com/event/christmas-this-year-matinee-2/
CATEGORIES:Family Fun,Holiday Events,Live Music
END:VEVENT
BEGIN:VEVENT
DTSTART;TZID=America/Denver:20251213T180000
DTEND;TZID=America/Denver:20251213T180000
DTSTAMP:20260423T055614
CREATED:20251126T044657Z
LAST-MODIFIED:20260128T163147Z
UID:1945-1765648800-1765648800@barrettegraphics.com
SUMMARY:Christmas This Year
DESCRIPTION:Family variety show presented by Friends of Club 21\, highlighting gifts and talents of the Down syndrome and special needs community.
URL:https://barrettegraphics.com/event/christmas-this-year-2/
CATEGORIES:Family Fun,Holiday Events,Live Music
END:VEVENT
BEGIN:VEVENT
DTSTART;TZID=America/Denver:20251214T140000
DTEND;TZID=America/Denver:20251214T140000
DTSTAMP:20260423T055614
CREATED:20251126T044657Z
LAST-MODIFIED:20260128T163147Z
UID:1946-1765720800-1765720800@barrettegraphics.com
SUMMARY:Christmas This Year: Matinee
DESCRIPTION:Family variety show presented by Friends of Club 21\, highlighting gifts and talents of the Down syndrome and special needs community.
URL:https://barrettegraphics.com/event/christmas-this-year-matinee/
CATEGORIES:Family Fun,Holiday Events,Live Music
END:VEVENT
BEGIN:VEVENT
DTSTART;TZID=America/Denver:20251214T180000
DTEND;TZID=America/Denver:20251214T180000
DTSTAMP:20260423T055614
CREATED:20251126T044657Z
LAST-MODIFIED:20260128T163147Z
UID:1947-1765735200-1765735200@barrettegraphics.com
SUMMARY:Christmas This Year
DESCRIPTION:Family variety show presented by Friends of Club 21\, highlighting gifts and talents of the Down syndrome and special needs community.
URL:https://barrettegraphics.com/event/christmas-this-year/
CATEGORIES:Family Fun,Holiday Events,Live Music
END:VEVENT
END:VCALENDAR