BEGIN:VCALENDAR
VERSION:2.0
PRODID:-//Barrette Graphics - ECPv6.15.20//NONSGML v1.0//EN
CALSCALE:GREGORIAN
METHOD:PUBLISH
X-WR-CALNAME:Barrette Graphics
X-ORIGINAL-URL:https://barrettegraphics.com
X-WR-CALDESC:Events for Barrette Graphics
REFRESH-INTERVAL;VALUE=DURATION:PT1H
X-Robots-Tag:noindex
X-PUBLISHED-TTL:PT1H
BEGIN:VTIMEZONE
TZID:America/Denver
BEGIN:DAYLIGHT
TZOFFSETFROM:-0700
TZOFFSETTO:-0600
TZNAME:MDT
DTSTART:20240310T090000
END:DAYLIGHT
BEGIN:STANDARD
TZOFFSETFROM:-0600
TZOFFSETTO:-0700
TZNAME:MST
DTSTART:20241103T080000
END:STANDARD
BEGIN:DAYLIGHT
TZOFFSETFROM:-0700
TZOFFSETTO:-0600
TZNAME:MDT
DTSTART:20250309T090000
END:DAYLIGHT
BEGIN:STANDARD
TZOFFSETFROM:-0600
TZOFFSETTO:-0700
TZNAME:MST
DTSTART:20251102T080000
END:STANDARD
BEGIN:DAYLIGHT
TZOFFSETFROM:-0700
TZOFFSETTO:-0600
TZNAME:MDT
DTSTART:20260308T090000
END:DAYLIGHT
BEGIN:STANDARD
TZOFFSETFROM:-0600
TZOFFSETTO:-0700
TZNAME:MST
DTSTART:20261101T080000
END:STANDARD
END:VTIMEZONE
BEGIN:VEVENT
DTSTART;TZID=America/Denver:20250709T183000
DTEND;TZID=America/Denver:20250709T203000
DTSTAMP:20260421T223309
CREATED:20250411T203058Z
LAST-MODIFIED:20250411T203059Z
UID:1554-1752085800-1752093000@barrettegraphics.com
SUMMARY:Concerts in the Park: Ashtonz
DESCRIPTION:Part of the Concerts in the Park series. Enjoy an evening of free music and food trucks.
URL:https://barrettegraphics.com/event/concerts-in-the-park-ashtonz/
CATEGORIES:Live Music
END:VEVENT
BEGIN:VEVENT
DTSTART;TZID=America/Denver:20250625T183000
DTEND;TZID=America/Denver:20250625T203000
DTSTAMP:20260421T223309
CREATED:20250411T203058Z
LAST-MODIFIED:20250411T203059Z
UID:1553-1750876200-1750883400@barrettegraphics.com
SUMMARY:Concerts in the Park: Hot Boots Band
DESCRIPTION:Part of the Concerts in the Park series. Enjoy an evening of free music and food trucks.
URL:https://barrettegraphics.com/event/concerts-in-the-park-hot-boots-band/
CATEGORIES:Live Music
END:VEVENT
BEGIN:VEVENT
DTSTART;TZID=America/Denver:20250618T183000
DTEND;TZID=America/Denver:20250618T203000
DTSTAMP:20260421T223309
CREATED:20250411T203058Z
LAST-MODIFIED:20250411T203059Z
UID:1552-1750271400-1750278600@barrettegraphics.com
SUMMARY:Concerts in the Park: King Stan Band
DESCRIPTION:Part of the Concerts in the Park series. Enjoy an evening of free music and food trucks.
URL:https://barrettegraphics.com/event/concerts-in-the-park-king-stan-band/
CATEGORIES:Live Music
END:VEVENT
BEGIN:VEVENT
DTSTART;TZID=America/Denver:20250611T183000
DTEND;TZID=America/Denver:20250611T203000
DTSTAMP:20260421T223309
CREATED:20250411T203057Z
LAST-MODIFIED:20250411T203057Z
UID:1551-1749666600-1749673800@barrettegraphics.com
SUMMARY:Concerts in the Park: Kopesetic
DESCRIPTION:Part of the Concerts in the Park series. Enjoy an evening of free music and food trucks.
URL:https://barrettegraphics.com/event/concerts-in-the-park-kopesetic/
CATEGORIES:Live Music
END:VEVENT
BEGIN:VEVENT
DTSTART;TZID=America/Denver:20250604T183000
DTEND;TZID=America/Denver:20250604T203000
DTSTAMP:20260421T223309
CREATED:20250411T203056Z
LAST-MODIFIED:20250411T203056Z
UID:1550-1749061800-1749069000@barrettegraphics.com
SUMMARY:Concerts in the Park: Cactus Cat
DESCRIPTION:Part of the Concerts in the Park series. Enjoy an evening of free music and food trucks.
URL:https://barrettegraphics.com/event/concerts-in-the-park-cactus-cat/
CATEGORIES:Live Music
END:VEVENT
END:VCALENDAR