BEGIN:VCALENDAR
VERSION:2.0
PRODID:-//Barrette Graphics - ECPv6.15.20//NONSGML v1.0//EN
CALSCALE:GREGORIAN
METHOD:PUBLISH
X-WR-CALNAME:Barrette Graphics
X-ORIGINAL-URL:https://barrettegraphics.com
X-WR-CALDESC:Events for Barrette Graphics
REFRESH-INTERVAL;VALUE=DURATION:PT1H
X-Robots-Tag:noindex
X-PUBLISHED-TTL:PT1H
BEGIN:VTIMEZONE
TZID:America/Denver
BEGIN:DAYLIGHT
TZOFFSETFROM:-0700
TZOFFSETTO:-0600
TZNAME:MDT
DTSTART:20240310T090000
END:DAYLIGHT
BEGIN:STANDARD
TZOFFSETFROM:-0600
TZOFFSETTO:-0700
TZNAME:MST
DTSTART:20241103T080000
END:STANDARD
BEGIN:DAYLIGHT
TZOFFSETFROM:-0700
TZOFFSETTO:-0600
TZNAME:MDT
DTSTART:20250309T090000
END:DAYLIGHT
BEGIN:STANDARD
TZOFFSETFROM:-0600
TZOFFSETTO:-0700
TZNAME:MST
DTSTART:20251102T080000
END:STANDARD
BEGIN:DAYLIGHT
TZOFFSETFROM:-0700
TZOFFSETTO:-0600
TZNAME:MDT
DTSTART:20260308T090000
END:DAYLIGHT
BEGIN:STANDARD
TZOFFSETFROM:-0600
TZOFFSETTO:-0700
TZNAME:MST
DTSTART:20261101T080000
END:STANDARD
END:VTIMEZONE
BEGIN:VEVENT
DTSTART;TZID=America/Denver:20250806T183000
DTEND;TZID=America/Denver:20250806T203000
DTSTAMP:20260422T060322
CREATED:20250411T203115Z
LAST-MODIFIED:20250411T203115Z
UID:1563-1754505000-1754512200@barrettegraphics.com
SUMMARY:Concerts in the Park: Vinyl Nation
DESCRIPTION:Part of the Concerts in the Park series. Enjoy an evening of free music and food trucks.
URL:https://barrettegraphics.com/event/concerts-in-the-park-vinyl-nation/
CATEGORIES:Live Music
END:VEVENT
BEGIN:VEVENT
DTSTART;TZID=America/Denver:20250813T183000
DTEND;TZID=America/Denver:20250813T203000
DTSTAMP:20260422T060322
CREATED:20250411T203115Z
LAST-MODIFIED:20250411T203115Z
UID:1564-1755109800-1755117000@barrettegraphics.com
SUMMARY:Concerts in the Park: Mojo Filter
DESCRIPTION:Part of the Concerts in the Park series. Enjoy an evening of free music and food trucks.
URL:https://barrettegraphics.com/event/concerts-in-the-park-mojo-filter/
CATEGORIES:Live Music
END:VEVENT
BEGIN:VEVENT
DTSTART;TZID=America/Denver:20250820T183000
DTEND;TZID=America/Denver:20250820T203000
DTSTAMP:20260422T060322
CREATED:20250411T203115Z
LAST-MODIFIED:20250411T203115Z
UID:1565-1755714600-1755721800@barrettegraphics.com
SUMMARY:Concerts in the Park: WireWood
DESCRIPTION:Part of the Concerts in the Park series. Enjoy an evening of free music and food trucks.
URL:https://barrettegraphics.com/event/concerts-in-the-park-wirewood/
CATEGORIES:Live Music
END:VEVENT
BEGIN:VEVENT
DTSTART;TZID=America/Denver:20250827T183000
DTEND;TZID=America/Denver:20250827T203000
DTSTAMP:20260422T060322
CREATED:20250411T203115Z
LAST-MODIFIED:20250411T203115Z
UID:1566-1756319400-1756326600@barrettegraphics.com
SUMMARY:Concerts in the Park: Mimic
DESCRIPTION:Part of the Concerts in the Park series. Enjoy an evening of free music and food trucks.
URL:https://barrettegraphics.com/event/concerts-in-the-park-mimic-2/
CATEGORIES:Live Music
END:VEVENT
END:VCALENDAR