BEGIN:VCALENDAR
VERSION:2.0
PRODID:-//Barrette Graphics - ECPv6.15.20//NONSGML v1.0//EN
CALSCALE:GREGORIAN
METHOD:PUBLISH
X-ORIGINAL-URL:https://barrettegraphics.com
X-WR-CALDESC:Events for Barrette Graphics
REFRESH-INTERVAL;VALUE=DURATION:PT1H
X-Robots-Tag:noindex
X-PUBLISHED-TTL:PT1H
BEGIN:VTIMEZONE
TZID:America/Denver
BEGIN:DAYLIGHT
TZOFFSETFROM:-0700
TZOFFSETTO:-0600
TZNAME:MDT
DTSTART:20240310T090000
END:DAYLIGHT
BEGIN:STANDARD
TZOFFSETFROM:-0600
TZOFFSETTO:-0700
TZNAME:MST
DTSTART:20241103T080000
END:STANDARD
BEGIN:DAYLIGHT
TZOFFSETFROM:-0700
TZOFFSETTO:-0600
TZNAME:MDT
DTSTART:20250309T090000
END:DAYLIGHT
BEGIN:STANDARD
TZOFFSETFROM:-0600
TZOFFSETTO:-0700
TZNAME:MST
DTSTART:20251102T080000
END:STANDARD
BEGIN:DAYLIGHT
TZOFFSETFROM:-0700
TZOFFSETTO:-0600
TZNAME:MDT
DTSTART:20260308T090000
END:DAYLIGHT
BEGIN:STANDARD
TZOFFSETFROM:-0600
TZOFFSETTO:-0700
TZNAME:MST
DTSTART:20261101T080000
END:STANDARD
END:VTIMEZONE
BEGIN:VEVENT
DTSTART;TZID=America/Denver:20250822T120000
DTEND;TZID=America/Denver:20250822T160000
DTSTAMP:20260421T145237
CREATED:20250624T051402Z
LAST-MODIFIED:20250624T051402Z
UID:1780-1755864000-1755878400@barrettegraphics.com
SUMMARY:UCCS Farmers Market
DESCRIPTION:Experience the diversity of our Farmers Market\, where student entrepreneurs\, Colorado vendors\, and food trucks come together to showcase their goods and services. Set against the backdrop of our beautiful campus farm\, the market is held every other Friday from June 27th – October 3rd and is filled with fresh produce\, artisanal products\, and delicious food from local vendors. \nUCCS Farmers Market is Sponsored by The William Stanley Foundation
URL:https://barrettegraphics.com/event/uccs-farmers-market-5/
CATEGORIES:Farmer's Markets
END:VEVENT
END:VCALENDAR