BEGIN:VCALENDAR
VERSION:2.0
PRODID:-//Barrette Graphics - ECPv6.15.20//NONSGML v1.0//EN
CALSCALE:GREGORIAN
METHOD:PUBLISH
X-ORIGINAL-URL:https://barrettegraphics.com
X-WR-CALDESC:Events for Barrette Graphics
REFRESH-INTERVAL;VALUE=DURATION:PT1H
X-Robots-Tag:noindex
X-PUBLISHED-TTL:PT1H
BEGIN:VTIMEZONE
TZID:America/Denver
BEGIN:DAYLIGHT
TZOFFSETFROM:-0700
TZOFFSETTO:-0600
TZNAME:MDT
DTSTART:20240310T090000
END:DAYLIGHT
BEGIN:STANDARD
TZOFFSETFROM:-0600
TZOFFSETTO:-0700
TZNAME:MST
DTSTART:20241103T080000
END:STANDARD
BEGIN:DAYLIGHT
TZOFFSETFROM:-0700
TZOFFSETTO:-0600
TZNAME:MDT
DTSTART:20250309T090000
END:DAYLIGHT
BEGIN:STANDARD
TZOFFSETFROM:-0600
TZOFFSETTO:-0700
TZNAME:MST
DTSTART:20251102T080000
END:STANDARD
BEGIN:DAYLIGHT
TZOFFSETFROM:-0700
TZOFFSETTO:-0600
TZNAME:MDT
DTSTART:20260308T090000
END:DAYLIGHT
BEGIN:STANDARD
TZOFFSETFROM:-0600
TZOFFSETTO:-0700
TZNAME:MST
DTSTART:20261101T080000
END:STANDARD
END:VTIMEZONE
BEGIN:VEVENT
DTSTART;TZID=America/Denver:20250903T090000
DTEND;TZID=America/Denver:20250903T090000
DTSTAMP:20260421T115719
CREATED:20250411T204321Z
LAST-MODIFIED:20260128T163208Z
UID:1593-1756890000-1756890000@barrettegraphics.com
SUMMARY:Briargate Farmers Market
DESCRIPTION:Weekly Briargate Farmers Market featuring local produce\, crafts\, and more.
URL:https://barrettegraphics.com/event/briargate-farmers-market-32/
CATEGORIES:Farmer's Markets
END:VEVENT
BEGIN:VEVENT
DTSTART;TZID=America/Denver:20250903T150000
DTEND;TZID=America/Denver:20250903T190000
DTSTAMP:20260421T115719
CREATED:20250624T051519Z
LAST-MODIFIED:20260128T163208Z
UID:1810-1756911600-1756926000@barrettegraphics.com
SUMMARY:Colorado Farm and Art Market (Saturday)
DESCRIPTION:We operate weekly outdoor markets June through October on Wednesdays and Saturdays\, a Winter Wonderland market in December\, and twice-monthly spring markets from March through May. \nMore information can be found on the specific pages for each market. \nWe are proud to serve SNAP recipients at both of our market locations. Visit the information booth to swipe your EBT card and receive SNAP coupons for food purchases. In addition\, we will match the first $20 you spend in Double Up Food Bucks (DUFB) provided by Double Up Colorado. These can be spent on any fresh produce items from our wonderful regional farmers! \nCFAM is also a participating WIC market! WIC is a program created for pregnant people\, parents\, and their children to provide increased access to fresh and healthy foods. WIC recipients can come to CFAM to use their vouchers for local fruits\, veggies\, and herbs. Visit the information booth to learn more!
URL:https://barrettegraphics.com/event/colorado-farm-and-art-market-saturday-30/
CATEGORIES:Farmer's Markets
END:VEVENT
BEGIN:VEVENT
DTSTART;TZID=America/Denver:20250906T090000
DTEND;TZID=America/Denver:20250906T130000
DTSTAMP:20260421T115719
CREATED:20250624T051649Z
LAST-MODIFIED:20260128T163208Z
UID:1839-1757149200-1757163600@barrettegraphics.com
SUMMARY:Black Forest Farmers Market
DESCRIPTION:“A true farmers’ market in the forest! Over 70 vendors who make\, bake\, or grow everything they sell. Enjoy live music\, kids’ activities\, local chefs\, and more every Saturday at the corner of Shoup Rd and Black Forest Rd.”
URL:https://barrettegraphics.com/event/black-forest-farmers-market-12/
CATEGORIES:Farmer's Markets
END:VEVENT
BEGIN:VEVENT
DTSTART;TZID=America/Denver:20250906T100000
DTEND;TZID=America/Denver:20250906T140000
DTSTAMP:20260421T115719
CREATED:20250624T051433Z
LAST-MODIFIED:20260128T163208Z
UID:1792-1757152800-1757167200@barrettegraphics.com
SUMMARY:Colorado Farm and Art Market (Saturday)
DESCRIPTION:We operate weekly outdoor markets June through October on Wednesdays and Saturdays\, a Winter Wonderland market in December\, and twice-monthly spring markets from March through May. \nMore information can be found on the specific pages for each market. \nWe are proud to serve SNAP recipients at both of our market locations. Visit the information booth to swipe your EBT card and receive SNAP coupons for food purchases. In addition\, we will match the first $20 you spend in Double Up Food Bucks (DUFB) provided by Double Up Colorado. These can be spent on any fresh produce items from our wonderful regional farmers! \nCFAM is also a participating WIC market! WIC is a program created for pregnant people\, parents\, and their children to provide increased access to fresh and healthy foods. WIC recipients can come to CFAM to use their vouchers for local fruits\, veggies\, and herbs. Visit the information booth to learn more!
URL:https://barrettegraphics.com/event/colorado-farm-and-art-market-saturday-12/
CATEGORIES:Farmer's Markets
END:VEVENT
BEGIN:VEVENT
DTSTART;TZID=America/Denver:20250910T090000
DTEND;TZID=America/Denver:20250910T090000
DTSTAMP:20260421T115719
CREATED:20250411T204321Z
LAST-MODIFIED:20260128T163208Z
UID:1594-1757494800-1757494800@barrettegraphics.com
SUMMARY:Briargate Farmers Market
DESCRIPTION:Weekly Briargate Farmers Market featuring local produce\, crafts\, and more.
URL:https://barrettegraphics.com/event/briargate-farmers-market-33/
CATEGORIES:Farmer's Markets
END:VEVENT
BEGIN:VEVENT
DTSTART;TZID=America/Denver:20250910T150000
DTEND;TZID=America/Denver:20250910T190000
DTSTAMP:20260421T115719
CREATED:20250624T051533Z
LAST-MODIFIED:20260128T163208Z
UID:1811-1757516400-1757530800@barrettegraphics.com
SUMMARY:Colorado Farm and Art Market (Saturday)
DESCRIPTION:We operate weekly outdoor markets June through October on Wednesdays and Saturdays\, a Winter Wonderland market in December\, and twice-monthly spring markets from March through May. \nMore information can be found on the specific pages for each market. \nWe are proud to serve SNAP recipients at both of our market locations. Visit the information booth to swipe your EBT card and receive SNAP coupons for food purchases. In addition\, we will match the first $20 you spend in Double Up Food Bucks (DUFB) provided by Double Up Colorado. These can be spent on any fresh produce items from our wonderful regional farmers! \nCFAM is also a participating WIC market! WIC is a program created for pregnant people\, parents\, and their children to provide increased access to fresh and healthy foods. WIC recipients can come to CFAM to use their vouchers for local fruits\, veggies\, and herbs. Visit the information booth to learn more!
URL:https://barrettegraphics.com/event/colorado-farm-and-art-market-saturday-31/
CATEGORIES:Farmer's Markets
END:VEVENT
BEGIN:VEVENT
DTSTART;TZID=America/Denver:20250913T090000
DTEND;TZID=America/Denver:20250913T130000
DTSTAMP:20260421T115719
CREATED:20250624T051649Z
LAST-MODIFIED:20260128T163208Z
UID:1840-1757754000-1757768400@barrettegraphics.com
SUMMARY:Black Forest Farmers Market
DESCRIPTION:“A true farmers’ market in the forest! Over 70 vendors who make\, bake\, or grow everything they sell. Enjoy live music\, kids’ activities\, local chefs\, and more every Saturday at the corner of Shoup Rd and Black Forest Rd.”
URL:https://barrettegraphics.com/event/black-forest-farmers-market-13/
CATEGORIES:Farmer's Markets
END:VEVENT
BEGIN:VEVENT
DTSTART;TZID=America/Denver:20250913T100000
DTEND;TZID=America/Denver:20250913T140000
DTSTAMP:20260421T115719
CREATED:20250624T051433Z
LAST-MODIFIED:20260128T163208Z
UID:1793-1757757600-1757772000@barrettegraphics.com
SUMMARY:Colorado Farm and Art Market (Saturday)
DESCRIPTION:We operate weekly outdoor markets June through October on Wednesdays and Saturdays\, a Winter Wonderland market in December\, and twice-monthly spring markets from March through May. \nMore information can be found on the specific pages for each market. \nWe are proud to serve SNAP recipients at both of our market locations. Visit the information booth to swipe your EBT card and receive SNAP coupons for food purchases. In addition\, we will match the first $20 you spend in Double Up Food Bucks (DUFB) provided by Double Up Colorado. These can be spent on any fresh produce items from our wonderful regional farmers! \nCFAM is also a participating WIC market! WIC is a program created for pregnant people\, parents\, and their children to provide increased access to fresh and healthy foods. WIC recipients can come to CFAM to use their vouchers for local fruits\, veggies\, and herbs. Visit the information booth to learn more!
URL:https://barrettegraphics.com/event/colorado-farm-and-art-market-saturday-13/
CATEGORIES:Farmer's Markets
END:VEVENT
BEGIN:VEVENT
DTSTART;TZID=America/Denver:20250914T090000
DTEND;TZID=America/Denver:20250914T140000
DTSTAMP:20260421T115719
CREATED:20250624T051604Z
LAST-MODIFIED:20260128T163208Z
UID:1824-1757840400-1757858400@barrettegraphics.com
SUMMARY:Colorado Springs Sunday Market
DESCRIPTION:“Starting June 2025\, Acacia Park comes to life every other Sunday with the sights\, sounds\, and flavors of Colorado Springs. This curated community market brings together farm-fresh food\, handcrafted goods\, and local art in the heart of downtown.”
URL:https://barrettegraphics.com/event/colorado-springs-sunday-market-8/
CATEGORIES:Farmer's Markets
END:VEVENT
BEGIN:VEVENT
DTSTART;TZID=America/Denver:20250917T090000
DTEND;TZID=America/Denver:20250917T090000
DTSTAMP:20260421T115719
CREATED:20250411T204321Z
LAST-MODIFIED:20260128T163208Z
UID:1595-1758099600-1758099600@barrettegraphics.com
SUMMARY:Briargate Farmers Market
DESCRIPTION:Weekly Briargate Farmers Market featuring local produce\, crafts\, and more.
URL:https://barrettegraphics.com/event/briargate-farmers-market-34/
CATEGORIES:Farmer's Markets
END:VEVENT
BEGIN:VEVENT
DTSTART;TZID=America/Denver:20250917T150000
DTEND;TZID=America/Denver:20250917T190000
DTSTAMP:20260421T115719
CREATED:20250624T051533Z
LAST-MODIFIED:20260128T163208Z
UID:1812-1758121200-1758135600@barrettegraphics.com
SUMMARY:Colorado Farm and Art Market (Saturday)
DESCRIPTION:We operate weekly outdoor markets June through October on Wednesdays and Saturdays\, a Winter Wonderland market in December\, and twice-monthly spring markets from March through May. \nMore information can be found on the specific pages for each market. \nWe are proud to serve SNAP recipients at both of our market locations. Visit the information booth to swipe your EBT card and receive SNAP coupons for food purchases. In addition\, we will match the first $20 you spend in Double Up Food Bucks (DUFB) provided by Double Up Colorado. These can be spent on any fresh produce items from our wonderful regional farmers! \nCFAM is also a participating WIC market! WIC is a program created for pregnant people\, parents\, and their children to provide increased access to fresh and healthy foods. WIC recipients can come to CFAM to use their vouchers for local fruits\, veggies\, and herbs. Visit the information booth to learn more!
URL:https://barrettegraphics.com/event/colorado-farm-and-art-market-saturday-32/
CATEGORIES:Farmer's Markets
END:VEVENT
BEGIN:VEVENT
DTSTART;TZID=America/Denver:20250920T090000
DTEND;TZID=America/Denver:20250920T130000
DTSTAMP:20260421T115719
CREATED:20250624T051704Z
LAST-MODIFIED:20260128T163208Z
UID:1841-1758358800-1758373200@barrettegraphics.com
SUMMARY:Black Forest Farmers Market
DESCRIPTION:“A true farmers’ market in the forest! Over 70 vendors who make\, bake\, or grow everything they sell. Enjoy live music\, kids’ activities\, local chefs\, and more every Saturday at the corner of Shoup Rd and Black Forest Rd.”
URL:https://barrettegraphics.com/event/black-forest-farmers-market-14/
CATEGORIES:Farmer's Markets
END:VEVENT
BEGIN:VEVENT
DTSTART;TZID=America/Denver:20250920T100000
DTEND;TZID=America/Denver:20250920T140000
DTSTAMP:20260421T115719
CREATED:20250624T051434Z
LAST-MODIFIED:20260128T163208Z
UID:1794-1758362400-1758376800@barrettegraphics.com
SUMMARY:Colorado Farm and Art Market (Saturday)
DESCRIPTION:We operate weekly outdoor markets June through October on Wednesdays and Saturdays\, a Winter Wonderland market in December\, and twice-monthly spring markets from March through May. \nMore information can be found on the specific pages for each market. \nWe are proud to serve SNAP recipients at both of our market locations. Visit the information booth to swipe your EBT card and receive SNAP coupons for food purchases. In addition\, we will match the first $20 you spend in Double Up Food Bucks (DUFB) provided by Double Up Colorado. These can be spent on any fresh produce items from our wonderful regional farmers! \nCFAM is also a participating WIC market! WIC is a program created for pregnant people\, parents\, and their children to provide increased access to fresh and healthy foods. WIC recipients can come to CFAM to use their vouchers for local fruits\, veggies\, and herbs. Visit the information booth to learn more!
URL:https://barrettegraphics.com/event/colorado-farm-and-art-market-saturday-14/
CATEGORIES:Farmer's Markets
END:VEVENT
BEGIN:VEVENT
DTSTART;TZID=America/Denver:20250924T090000
DTEND;TZID=America/Denver:20250924T090000
DTSTAMP:20260421T115719
CREATED:20250411T204321Z
LAST-MODIFIED:20260128T163208Z
UID:1596-1758704400-1758704400@barrettegraphics.com
SUMMARY:Briargate Farmers Market
DESCRIPTION:Weekly Briargate Farmers Market featuring local produce\, crafts\, and more.
URL:https://barrettegraphics.com/event/briargate-farmers-market-35/
CATEGORIES:Farmer's Markets
END:VEVENT
BEGIN:VEVENT
DTSTART;TZID=America/Denver:20250924T150000
DTEND;TZID=America/Denver:20250924T190000
DTSTAMP:20260421T115719
CREATED:20250624T051534Z
LAST-MODIFIED:20260128T163208Z
UID:1813-1758726000-1758740400@barrettegraphics.com
SUMMARY:Colorado Farm and Art Market (Saturday)
DESCRIPTION:We operate weekly outdoor markets June through October on Wednesdays and Saturdays\, a Winter Wonderland market in December\, and twice-monthly spring markets from March through May. \nMore information can be found on the specific pages for each market. \nWe are proud to serve SNAP recipients at both of our market locations. Visit the information booth to swipe your EBT card and receive SNAP coupons for food purchases. In addition\, we will match the first $20 you spend in Double Up Food Bucks (DUFB) provided by Double Up Colorado. These can be spent on any fresh produce items from our wonderful regional farmers! \nCFAM is also a participating WIC market! WIC is a program created for pregnant people\, parents\, and their children to provide increased access to fresh and healthy foods. WIC recipients can come to CFAM to use their vouchers for local fruits\, veggies\, and herbs. Visit the information booth to learn more!
URL:https://barrettegraphics.com/event/colorado-farm-and-art-market-saturday-33/
CATEGORIES:Farmer's Markets
END:VEVENT
BEGIN:VEVENT
DTSTART;TZID=America/Denver:20250927T090000
DTEND;TZID=America/Denver:20250927T130000
DTSTAMP:20260421T115719
CREATED:20250624T051704Z
LAST-MODIFIED:20260128T163208Z
UID:1842-1758963600-1758978000@barrettegraphics.com
SUMMARY:Black Forest Farmers Market
DESCRIPTION:“A true farmers’ market in the forest! Over 70 vendors who make\, bake\, or grow everything they sell. Enjoy live music\, kids’ activities\, local chefs\, and more every Saturday at the corner of Shoup Rd and Black Forest Rd.”
URL:https://barrettegraphics.com/event/black-forest-farmers-market-15/
CATEGORIES:Farmer's Markets
END:VEVENT
BEGIN:VEVENT
DTSTART;TZID=America/Denver:20250927T100000
DTEND;TZID=America/Denver:20250927T140000
DTSTAMP:20260421T115719
CREATED:20250624T051434Z
LAST-MODIFIED:20260128T163208Z
UID:1795-1758967200-1758981600@barrettegraphics.com
SUMMARY:Colorado Farm and Art Market (Saturday)
DESCRIPTION:We operate weekly outdoor markets June through October on Wednesdays and Saturdays\, a Winter Wonderland market in December\, and twice-monthly spring markets from March through May. \nMore information can be found on the specific pages for each market. \nWe are proud to serve SNAP recipients at both of our market locations. Visit the information booth to swipe your EBT card and receive SNAP coupons for food purchases. In addition\, we will match the first $20 you spend in Double Up Food Bucks (DUFB) provided by Double Up Colorado. These can be spent on any fresh produce items from our wonderful regional farmers! \nCFAM is also a participating WIC market! WIC is a program created for pregnant people\, parents\, and their children to provide increased access to fresh and healthy foods. WIC recipients can come to CFAM to use their vouchers for local fruits\, veggies\, and herbs. Visit the information booth to learn more!
URL:https://barrettegraphics.com/event/colorado-farm-and-art-market-saturday-15/
CATEGORIES:Farmer's Markets
END:VEVENT
BEGIN:VEVENT
DTSTART;TZID=America/Denver:20250928T090000
DTEND;TZID=America/Denver:20250928T140000
DTSTAMP:20260421T115719
CREATED:20250624T051604Z
LAST-MODIFIED:20260128T163208Z
UID:1825-1759050000-1759068000@barrettegraphics.com
SUMMARY:Colorado Springs Sunday Market
DESCRIPTION:“Starting June 2025\, Acacia Park comes to life every other Sunday with the sights\, sounds\, and flavors of Colorado Springs. This curated community market brings together farm-fresh food\, handcrafted goods\, and local art in the heart of downtown.”
URL:https://barrettegraphics.com/event/colorado-springs-sunday-market-9/
CATEGORIES:Farmer's Markets
END:VEVENT
END:VCALENDAR