BEGIN:VCALENDAR
VERSION:2.0
PRODID:-//Barrette Graphics - ECPv6.15.20//NONSGML v1.0//EN
CALSCALE:GREGORIAN
METHOD:PUBLISH
X-ORIGINAL-URL:https://barrettegraphics.com
X-WR-CALDESC:Events for Barrette Graphics
REFRESH-INTERVAL;VALUE=DURATION:PT1H
X-Robots-Tag:noindex
X-PUBLISHED-TTL:PT1H
BEGIN:VTIMEZONE
TZID:America/Denver
BEGIN:DAYLIGHT
TZOFFSETFROM:-0700
TZOFFSETTO:-0600
TZNAME:MDT
DTSTART:20240310T090000
END:DAYLIGHT
BEGIN:STANDARD
TZOFFSETFROM:-0600
TZOFFSETTO:-0700
TZNAME:MST
DTSTART:20241103T080000
END:STANDARD
BEGIN:DAYLIGHT
TZOFFSETFROM:-0700
TZOFFSETTO:-0600
TZNAME:MDT
DTSTART:20250309T090000
END:DAYLIGHT
BEGIN:STANDARD
TZOFFSETFROM:-0600
TZOFFSETTO:-0700
TZNAME:MST
DTSTART:20251102T080000
END:STANDARD
BEGIN:DAYLIGHT
TZOFFSETFROM:-0700
TZOFFSETTO:-0600
TZNAME:MDT
DTSTART:20260308T090000
END:DAYLIGHT
BEGIN:STANDARD
TZOFFSETFROM:-0600
TZOFFSETTO:-0700
TZNAME:MST
DTSTART:20261101T080000
END:STANDARD
BEGIN:DAYLIGHT
TZOFFSETFROM:-0700
TZOFFSETTO:-0600
TZNAME:MDT
DTSTART:20270314T090000
END:DAYLIGHT
BEGIN:STANDARD
TZOFFSETFROM:-0600
TZOFFSETTO:-0700
TZNAME:MST
DTSTART:20271107T080000
END:STANDARD
END:VTIMEZONE
BEGIN:VEVENT
DTSTART;TZID=America/Denver:20250730T100000
DTEND;TZID=America/Denver:20250730T170000
DTSTAMP:20260422T164259
CREATED:20250624T043548Z
LAST-MODIFIED:20250624T043548Z
UID:1765-1753869600-1753894800@barrettegraphics.com
SUMMARY:U.S. Olympic & Paralympic Museum Anniversary
DESCRIPTION:Visit the U.S. Olympic & Paralympic Museum on July 30th to celebrate the 5th anniversary of their opening!  \nAdmission to the museum will be $5.\nEnjoy athlete meet-and-greets\, artifact demonstrations\, and a variety of exciting activities as they honor five years of sharing athlete stories and inspiring excellence. \nhttps://usopm.org/event/us-olympic-paralympic-museum-5-year-anniversary-\nJuly 30 at 10:00 a.m. – 5:00 p.m. (Wed)\n200 S. Sierra Madre Street\, Colorado Springs\, CO 80903
URL:https://barrettegraphics.com/event/u-s-olympic-paralympic-museum-anniversary/
LOCATION:U.S. Olympic & Paralympic Museum\, 200 S Sierra Madre St\, Colorado Springs\, CO\, 80903\, United States
CATEGORIES:Family
END:VEVENT
BEGIN:VEVENT
DTSTART;TZID=America/Denver:20251029T153000
DTEND;TZID=America/Denver:20251029T183000
DTSTAMP:20260422T164259
CREATED:20251022T215501Z
LAST-MODIFIED:20260128T163207Z
UID:1927-1761751800-1761762600@barrettegraphics.com
SUMMARY:Free Math Tutoring
DESCRIPTION:The Free Monument Math Program\, proudly sponsored by the Tri-Lakes Dynamic Rotary Club\, helps students of all ages—from elementary through adults—build confidence and curiosity in math. Whether you’re strengthening skills\, tackling challenging concepts\, preparing for tests\, or learning practical math for work and life\, our friendly adult volunteer tutors are here to help you succeed. \nWe cover everything from counting 123’s\, addition\, and subtraction to algebra (Pre\, I\, II)\, geometry\, trigonometry\, pre-calculus\, calculus (AB\, BC\, 3)\, statistics\, business math\, and ACT\, SAT\, and GED prep. Whatever the topic\, our adult tutors—including teachers\, professors\, engineers\, and scientists—are ready to support learners of all ages! \nWhen: EVERY Wednesday\, 3:30 PM – 6:30 PM (follows D38 calendar & cancellations) \nWhere: Monument Library\, 1706 Lake Woodmoor Drive \nNo appointments needed—just drop in! (Last walk-in at 6 PM.) \nIt’s FREE! Questions? Email monumentmath@gmail.com. \nWant to get involved in local community service? The Tri-Lakes Dynamic Rotary Club welcomes you! Find out more at www.TLRotary.com
URL:https://barrettegraphics.com/event/free-math-tutoring/
LOCATION:Monument Library\, 1706 Lake Woodmoor Drive\, Monument\, CO\, 80132\, United States
CATEGORIES:Education,Family
END:VEVENT
BEGIN:VEVENT
DTSTART;TZID=America/Denver:20251127T081500
DTEND;TZID=America/Denver:20251127T170000
DTSTAMP:20260422T164259
CREATED:20251022T215112Z
LAST-MODIFIED:20260128T163207Z
UID:1924-1764231300-1764262800@barrettegraphics.com
SUMMARY:Turkey Trot 2025
DESCRIPTION:The Annual YMCA Turkey Trot 5K and Kids’ Tiny Trot have been family holiday traditions for years! This 5k annually attracts over 4\,000 participants to start off their Thanksgiving Day!   All proceeds from the Turkey Trot 5K benefit the YMCA and provide support to a family or individual in need. \nThe Turkey Trot 5K is a family-friendly event that’s both stroller- and dog-friendly. Enjoy the welcoming community atmosphere with your loved ones this Thanksgiving! \nWhen:  Thursday\, November 27 \nWhere:  Briargate YMCA\, 4025 Family Place\, Colorado Springs\, CO 80920 \nTo register\, visit https://runsignup.com/Race/CO/ColoradoSprings/TurkeyTrot5KSprings
URL:https://barrettegraphics.com/event/turkey-trot-2025/
LOCATION:CO
CATEGORIES:Community,Family,Holiday Events
END:VEVENT
BEGIN:VEVENT
DTSTART;TZID=America/Denver:20251206T090000
DTEND;TZID=America/Denver:20251206T160000
DTSTAMP:20260422T164259
CREATED:20251022T214827Z
LAST-MODIFIED:20260128T163147Z
UID:1918-1765011600-1765036800@barrettegraphics.com
SUMMARY:Monument Hill Kiwanis Korner
DESCRIPTION:Monument Hill Kiwanis Club (MHKC) raises funds to enable our mission of Making a Difference for Youth and Our Community by conducting a one-day craft fair which will be held on December 6th between 9:00 AM and 4:00 PM. \n This year’s fair will be held in Bear Creek Elementary School\, 1330 Creekside Dr.\, Monument (the intersection of Creekside and Leather Chaps).  Vendors purchase space to present their wares for sale and local churches prepare baked goods for purchase by craft fair patrons.  Entry is free but patrons are requested to bring a non-perishable food item that will be donated to Tri-Lakes Cares (T-LC).   \n MHKC volunteers set up and break down the display area at Grace Best for the event and assist vendors when requested.  Volunteers also provide assistance during the event to vendors or patrons.  MHKC volunteers contribute about 100 hours annually to this project. \n Last year’s North Pole Craft Fair drew nearly 2\,000 visitors. They shopped 75 vendors (including Kiwanian Jim Taylor\, shown here whose net profit from the sale of wooden toys are aggregated with booth space rentals). The net proceeds of their booth fees will be used to support programs to benefit youth in the Tri-Lakes area. This “Cookie Walk” will be hosted by Tri-Lakes United Methodist Church and will benefit T-LC.  Additionally\, last year T-LC received cash donations of more than $1\,000\, 653 lbs. of food as well as toys and games. Additionally\, “4 Kidz” received donations of new and lightly used sports equipment.  All of these donations will have a significant impact on the Christmas experience for the families served by T-LC. \n See the MHKiwanis.org website for more information and join us for a meeting to see what we’re all about.  See ad on previous page.
URL:https://barrettegraphics.com/event/monument-hill-kiwanis-korner/
LOCATION:Bear Creek Elementary School\, 1330 Creekside Dr\, Monument\, CO\, 80132\, United States
CATEGORIES:Community,Family
END:VEVENT
BEGIN:VEVENT
DTSTART;TZID=America/Denver:20260108T120000
DTEND;TZID=America/Denver:20260108T150000
DTSTAMP:20260422T164259
CREATED:20251224T193143Z
LAST-MODIFIED:20260128T163146Z
UID:2067-1767873600-1767884400@barrettegraphics.com
SUMMARY:Stock Show Kick-Off Parade
DESCRIPTION:The sight of over 30 Longhorn cattle walking through the streets of downtown Denver can only mean one thing…it’s Stock Show time. \nThe National Western Stock Show transforms Denver into the ultimate Western destination\, starting with the annual Kick-off Parade. On this one afternoon in January\, the streets of downtown Denver are lined with boots\, chaps\, and cowboy hats to celebrate Colorado’s western traditions and the iconic National Western Stock Show. Kids\, families\, businessmen\, and women get to step back in time and see a true western cattle drive with horses\, cowboys\, cowgirls\, tractors\, marching bands\, and floats. \n  \nThursday\, January 8\, Noon \nStart: Union Station at 17th Street \nEnd: 17th & Glenarm Place
URL:https://barrettegraphics.com/event/stock-show-kick-off-parade/
LOCATION:Union Station\, 1701 Wynkoop St\, Denver\, CO\, 80202\, United States
CATEGORIES:Family
END:VEVENT
BEGIN:VEVENT
DTSTART;TZID=America/Denver:20260110T180000
DTEND;TZID=America/Denver:20260110T200000
DTSTAMP:20260422T164259
CREATED:20251224T193254Z
LAST-MODIFIED:20260128T163146Z
UID:2070-1768068000-1768075200@barrettegraphics.com
SUMMARY:Palmer Lake Outdoor Classic
DESCRIPTION:Now entering its 5th year\, the Palmer Lake Outdoor Classic has become a cherished tradition and small-town community event. Founded as a non-profit event\, its mission is simple yet powerful: grow the game of hockey in the Tri-Lakes area. \nSet against the stunning backdrop of Palmer Lake and its iconic mountaintop star\, this unique event transforms a frozen lake into a battlefield of frozen dreams. Food trucks\, fireworks\, and thousands of fans filling the lakeside\, turning a small-town event into a winter celebration unlike any other. Each winter\, four Colorado high schools face off in a spirited competition for “The Star” trophy—a symbol of sportsmanship and small-town rivalry. \nAt the heart of the event is Lewis Palmer Hockey\, which uses the high school foundation game as its primary fundraiser. The energy and excitement of the community help support the team’s goals and development\, making this more than just a game—it’s a lifeline for their hockey team. This year’s matchup will feature Liberty\, Chatfield\, and Chaparral High Schools. \n  \nWhere: On the Ice in Palmer Lake \nWhen: Saturday\, January 10th \nFaceoff: 6:00 PM \n  \nAlongside the high school faceoffs\, the weekend also features a Youth Hockey Camp where young players get to skate\, learn\, and grow their skills on the iconic outdoor rink as well as an adult tournament hosted by Ranger Hockey Club. \nWhether you’re a player\, parent\, or passionate fan\, the Palmer Lake Outdoor Classic is a one-of-a-kind experience that brings the entire community together—under the star\, on the ice\, and at the heart of winter in Colorado. \nMore information is available at https://palmerlakeoutdoorclassic.com/
URL:https://barrettegraphics.com/event/palmer-lake-outdoor-classic/
LOCATION:Palmer Lake\, 199 County Line Rd\, Palmer Lake\, CO\, 80133\, United States
CATEGORIES:Community Events,Family,Outdoor
END:VEVENT
BEGIN:VEVENT
DTSTART;TZID=America/Denver:20260207T180000
DTEND;TZID=America/Denver:20260207T190000
DTSTAMP:20260422T164259
CREATED:20260128T170648Z
LAST-MODIFIED:20260128T170648Z
UID:2168-1770487200-1770490800@barrettegraphics.com
SUMMARY:Winter Adult Reading Program Helps People Build Healthy Reading Habits in 2026
DESCRIPTION:Pikes Peak Library District’s (PPLD) annual Winter Adult Reading Program began on January 1.  This popular program encourages adults ages 18 and up to put down their phone and pick up a book to develop brain-healthy reading habits and participate in activities. Participants earn prizes by completing 30 days of reading and activities between Jan. 1 – Feb. 28. Last year\, 5\,775 people registered for the program\, a 13% increase from 2024. \nStudies show that adults and seniors who use leisure time for reading receive a range of benefits including reduced stress\, less cognitive decline\, improved critical thinking\, enhanced conversation skills\, better sleep\, higher empathy\, and stronger connections with others. With national reading rates decreasing in recent years\, the Winter Adult Reading Program supports mental and cognitive health in the Pikes Peak region by encouraging the community to pick up a book. \nIn celebration of the 150th anniversary of Colorado and 250th anniversary of the United States this year’s program is themed around Colorado and its history. The Library has planned a variety of engaging programs based on this theme. This year’s program also includes a special after-hours event\, Sorry\, I’m Booked: Winter Adult Reading Program Party. The event will include literary trivia\, a book swap\, an adult Storytime\, bookish crafts\, and book talks about titles coming out in 2026\, hosted at East Library on Sat.\, Feb. 7 starting at 6 p.m. \nParticipants will receive a 2026 calendar with historic photos of Colorado Springs libraries when they register (while supplies last).  After registering\, participants must complete 30 days of reading and activities (such as attending a Library program) to earn this year’s limited-edition program mug and a coupon for a free dessert from Crumbl®\, both while supplies last. They will also be entered into a Grand Prize Drawing for one of five $100 gift cards from The French Kitchen or a 50L hiking backpack from Mountain Chalet. Participants can earn additional entries for the grand prizes for every additional five days of reading and activities completed. \n  \nNow through February 28 \nAll PPLD locations \nMore info: ppld.org/winter-reading
URL:https://barrettegraphics.com/event/winter-adult-reading-program-helps-people-build-healthy-reading-habits-in-2026/
LOCATION:CO
CATEGORIES:Community Events,Education,Family
END:VEVENT
BEGIN:VEVENT
DTSTART;TZID=America/Denver:20260207T180000
DTEND;TZID=America/Denver:20260207T210000
DTSTAMP:20260422T164259
CREATED:20260128T165859Z
LAST-MODIFIED:20260128T165859Z
UID:2157-1770487200-1770498000@barrettegraphics.com
SUMMARY:Father-Daughter Dance Fundraiser
DESCRIPTION:One of our missions at the YMCA is to nurture the growth and potential of every child in our community. The Father Daughter Dance is an annual occasion hosted by the YMCA’s Youth Development Department with this primary goal in mind. We believe that each child deserves access to quality care and meaningful experiences regardless of a family’s financial situation\, and the purpose of this dance is to drive forward that initiative while providing an incredibly special occasion for all family members\, but especially Fathers and Daughters. Families will participate in special crafts\, cookie decorating\, and lots of dancing! There will be opportunities for professional photos as well as a silent auction with larger prizes donated by partners in the community. This event is open to the public\, and all family members are welcome and highly encouraged to attend! \n  \nRegistration is available online or at the door. Activity tickets will be available for participation in crafts and photos. \nEvent Highlights \n  \nDancing\, music\, and lots of laughs! \nCrafts\, snacks\, and cookie-decorating stations \nProfessional photo opportunities \nActivity tickets available for extra fun \nDress attire: semi-formal \nAll proceeds benefit the YMCA Annual Support Campaign\, helping to offset membership and program fees for families in need. \n  \nPre-Registration: \nMembers: $38 per couple ($19 each for father and daughter) \nNon-Members: $48 per couple ($24 each for father and daughter) $15 for each additional guest (all family members welcome) \n  \nAt the door entry tickets will be $25 per person \n  \nMore information and to register at https://ppymca.org/event/father-daughter-dance-fundraiser/
URL:https://barrettegraphics.com/event/father-daughter-dance-fundraiser/
LOCATION:Tri-Lakes YMCA\, 17250 Jackson Creek Parkway\, Monument\, CO\, 80132\, United States
CATEGORIES:Community Events,Family
END:VEVENT
BEGIN:VEVENT
DTSTART;VALUE=DATE:20260217
DTEND;VALUE=DATE:20260218
DTSTAMP:20260422T164259
CREATED:20260128T170743Z
LAST-MODIFIED:20260128T170743Z
UID:2170-1771286400-1771372799@barrettegraphics.com
SUMMARY:Random Acts of Kindness Day
DESCRIPTION:Random Acts of Kindness Day is a wonderful occasion that encourages people to spread love\, compassion\, and positivity through small\, unexpected acts of kindness. \nRandom Acts of Kindness Day is a day dedicated to promoting kindness and goodwill. It encourages individuals to perform simple\, unexpected acts of kindness to brighten someone’s day and create a ripple effect of positivity. It’s a day to celebrate the power of kindness and compassion. \nRandom Acts of Kindness Day is observed on February 17th each year. It provides an opportunity for people worldwide to come together and make the world a better place through their thoughtful actions. \nHow to Celebrate Random Acts of Kindness Day \nCelebrating Random Acts of Kindness Day is all about spreading love and positivity. Here are some ideas to inspire acts of kindness on this special day: \nGive Compliments: Offer sincere compliments to friends\, family\, and even strangers to brighten their day. \nPay It Forward: When you’re at a coffee shop or drive-thru\, pay for the order of the person behind you. \nSend Thoughtful Messages: Send uplifting messages or notes to friends\, reminding them of your appreciation and support. \nHelp a Neighbor: Assist a neighbor with tasks like shoveling snow\, mowing their lawn\, or grocery shopping. \nDonate to Charity: Contribute to a charitable organization or cause that you’re passionate about. \nVisit the Elderly: Spend time with elderly individuals in nursing homes or assisted living facilities\, offering companionship and a listening ear. \nVolunteer Your Time: Volunteer at local charities\, shelters\, or community events to make a positive impact. \n  \nRandom Acts of Kindness Day is a reminder that small gestures of kindness have the power to change the world. By spreading love and positivity\, we can create a more compassionate and caring society. Take this opportunity on February 17th to perform random acts of kindness and inspire others to do the same. Together\, we can make the world a better place\, one act of kindness at a time. \n 
URL:https://barrettegraphics.com/event/random-acts-of-kindness-day-2/
LOCATION:CO
CATEGORIES:Community,Family
END:VEVENT
BEGIN:VEVENT
DTSTART;TZID=America/Denver:20260525T100000
DTEND;TZID=America/Denver:20260525T110000
DTSTAMP:20260422T164259
CREATED:20260422T174019Z
LAST-MODIFIED:20260422T174019Z
UID:2497-1779703200-1779706800@barrettegraphics.com
SUMMARY:Memorial Day Ceremony
DESCRIPTION:On Memorial Day\, we honor those Veterans whose final resting place is Monument Cemetery. \nPlease join us on Monday\, May 25th\, 2026\, at 10:00 am in the Monument Cemetery\, 800 Eighth Street\, Monument\, CO 80132 \nThis event is free and open to the public.
URL:https://barrettegraphics.com/event/memorial-day-ceremony-6/
LOCATION:Monument Cemetery\, 800 Beacon Light Rd\, Monument\, CO\, 80132\, United States
CATEGORIES:Family,Holiday Events
END:VEVENT
BEGIN:VEVENT
DTSTART;TZID=America/Denver:20260528T090000
DTEND;TZID=America/Denver:20260528T160000
DTSTAMP:20260422T164259
CREATED:20260422T175452Z
LAST-MODIFIED:20260422T175452Z
UID:2513-1779958800-1779984000@barrettegraphics.com
SUMMARY:Picnic & Planes
DESCRIPTION:The Western Museum of Mining is honored to be the Air Force Academy’s neighbor…and lucky too! The Mining Museum is the perfect place to watch the amazing aerial acrobatics of the U.S. Air Force Thunderbirds.\n\nWe suggest you bring your own chairs\, blankets\, and sunscreen. Feel free to bring a picnic or purchase from one of our food trucks. Let WMMI provide the location for you to experience the mighty Thunderbirds soaring overhead!
URL:https://barrettegraphics.com/event/picnic-planes/
LOCATION:Western Museum of Mining and Industry\, 225 Northgate Blvd\, Colorado Springs\, CO\, 80921\, United States
CATEGORIES:Community Events,Family,Military
END:VEVENT
BEGIN:VEVENT
DTSTART;TZID=America/Denver:20260606T080000
DTEND;TZID=America/Denver:20260606T120000
DTSTAMP:20260422T164259
CREATED:20260422T175141Z
LAST-MODIFIED:20260422T202123Z
UID:2511-1780732800-1780747200@barrettegraphics.com
SUMMARY:Kids' Fishing Derby
DESCRIPTION:  \n\n** Kids Fishing Derby
URL:https://barrettegraphics.com/event/kids-fishing-derby/
LOCATION:Palmer Lake\, 199 County Line Rd\, Palmer Lake\, CO\, 80133\, United States
CATEGORIES:Community Events,Family,Family Fun,Outdoor,Sports
ATTACH;FMTTYPE=image/jpeg:https://barrettegraphics.com/wp-content/uploads/2026/04/Fishing-Derby.jpg
END:VEVENT
BEGIN:VEVENT
DTSTART;TZID=America/Denver:20260704T090000
DTEND;TZID=America/Denver:20260704T110000
DTSTAMP:20260422T164259
CREATED:20250529T064007Z
LAST-MODIFIED:20260422T202430Z
UID:2683-1783155600-1783162800@barrettegraphics.com
SUMMARY:Monument 4th of July Parade
DESCRIPTION:4th of July Festivities! Enjoy a day full of fun!\nBefore setting up your chairs and canopies to reserve a parade viewing spot\, please see our 4th of July Spot Reservation Rules. \nPancake Breakfast – Hosted by St Peter’s Knights of Columbus Council 11514\nSt. Peter Catholic Church 55 Jefferson St. 7 am – 10 am tickets at the door. Proceeds support local charities \nPalmer Lake 4th of July Virtual and In-Person Fun Run\nRun\, skip\, gallop\, walk\, shuffle or hustle on July 4th with your friends and family to support Palmer Lake Elementary School at the 36th Annual July 4th Fun Run! Registration HERE! \nMonument Hill Kiwanis 4th of July Parade\n9:45 AM Children’s parade and main parade throughout Downtown Monument. Access the Monument Hill Kiwanis Webpage. \nTri-Lakes Chamber of Commerce Street Fair\n10:00 AM The Chamber of Commerce will show case a variety of vendors on Second and Washington Streets\, to include festival foods\, arts\, local businesses and non-profits.  Vendor registration is now open for the street fair. \nFamily Friendly Beer Garden in Limbach Park\nBeer Garden 10:00 am – 5:00 pm – Open to all ages\, but must be 21 and older to purchase/consume alcohol. No outside alcoholic beverages will be allowed into Limbach Park. \nLive in Limbach! Live Bands at Limbach Park\n11:30 am – 5:00 pm – Enjoy live music from Colorado musicians at the Limbach Park Bandshell. Check out the lineup on our 4th of July Bands and Sponsorship page.
URL:https://barrettegraphics.com/event/monument-4th-of-july-parade-3/
LOCATION:Downtown Monument\, Monument\, CO\, 80132\, United States
CATEGORIES:Family,Parade
ATTACH;FMTTYPE=image/jpeg:https://barrettegraphics.com/wp-content/uploads/2025/05/4th-of-july-monument-co.jpg
END:VEVENT
END:VCALENDAR