BEGIN:VCALENDAR
VERSION:2.0
PRODID:-//Barrette Graphics - ECPv6.15.20//NONSGML v1.0//EN
CALSCALE:GREGORIAN
METHOD:PUBLISH
X-WR-CALNAME:Barrette Graphics
X-ORIGINAL-URL:https://barrettegraphics.com
X-WR-CALDESC:Events for Barrette Graphics
REFRESH-INTERVAL;VALUE=DURATION:PT1H
X-Robots-Tag:noindex
X-PUBLISHED-TTL:PT1H
BEGIN:VTIMEZONE
TZID:America/Denver
BEGIN:DAYLIGHT
TZOFFSETFROM:-0700
TZOFFSETTO:-0600
TZNAME:MDT
DTSTART:20250309T090000
END:DAYLIGHT
BEGIN:STANDARD
TZOFFSETFROM:-0600
TZOFFSETTO:-0700
TZNAME:MST
DTSTART:20251102T080000
END:STANDARD
BEGIN:DAYLIGHT
TZOFFSETFROM:-0700
TZOFFSETTO:-0600
TZNAME:MDT
DTSTART:20260308T090000
END:DAYLIGHT
BEGIN:STANDARD
TZOFFSETFROM:-0600
TZOFFSETTO:-0700
TZNAME:MST
DTSTART:20261101T080000
END:STANDARD
BEGIN:DAYLIGHT
TZOFFSETFROM:-0700
TZOFFSETTO:-0600
TZNAME:MDT
DTSTART:20270314T090000
END:DAYLIGHT
BEGIN:STANDARD
TZOFFSETFROM:-0600
TZOFFSETTO:-0700
TZNAME:MST
DTSTART:20271107T080000
END:STANDARD
END:VTIMEZONE
BEGIN:VEVENT
DTSTART;TZID=America/Denver:20260321T100000
DTEND;TZID=America/Denver:20260321T140000
DTSTAMP:20260422T163550
CREATED:20260226T021823Z
LAST-MODIFIED:20260226T021823Z
UID:2189-1774087200-1774101600@barrettegraphics.com
SUMMARY:Celebrate Mining Day at the Western Museum of Mining & Industry
DESCRIPTION:Celebrate Mining Day at the Western Museum of Mining & Industry \nSaturday\, March 21 \n10:00 am – 2:00 pm \n225 North Gate Blvd \nEnjoy guided tours of fascinating exhibits\, interact with mining exhibitors\, try your hand at gold panning\, and watch live machine demonstrations in action. It’s a fun-filled day for the whole family to explore the exciting world of mining. General admission applies\, and members get in free! \nMore information available at info@wmmi.org or by calling 719.488.0880.
URL:https://barrettegraphics.com/event/celebrate-mining-day-at-the-western-museum-of-mining-industry/
LOCATION:Western Museum of Mining and Industry\, 225 Northgate Blvd\, Colorado Springs\, CO\, 80921\, United States
CATEGORIES:Family Fun
END:VEVENT
BEGIN:VEVENT
DTSTART;VALUE=DATE:20260605
DTEND;VALUE=DATE:20260606
DTSTAMP:20260422T163550
CREATED:20260226T021415Z
LAST-MODIFIED:20260226T021415Z
UID:2181-1780617600-1780703999@barrettegraphics.com
SUMMARY:2026 Colorado Senior Games
DESCRIPTION:June 5-7 \nThe Colorado Springs Sports Corporation (Sports Corp) and the YMCA of the Pikes Peak Region are proud to announce the return of the Colorado Senior Games presented by Medicare Mentors\, taking place June 5–7\, 2026\, in Colorado Springs. Now in its second annual year\, the Colorado Senior Games continues to build on the momentum of bringing older adult athletics back to the state\, celebrating health\, wellness\, competition\, and community for participants ages 50 and older. \nWith sports ranging from archery and swimming to pickleball and powerlifting\, there’s something for every athlete. Whether you’re hitting the track or aiming for a perfect billiards shot\, our community of senior competitors welcomes you. Find your sport\, challenge yourself\, and celebrate the joy of competition in your golden years! \nFor a full list of sports categories\, and to register\, visit https://coloradoseniorgames.org/sports/
URL:https://barrettegraphics.com/event/2026-colorado-senior-games/
LOCATION:CO
CATEGORIES:Family Fun,Sports
END:VEVENT
BEGIN:VEVENT
DTSTART;VALUE=DATE:20260606
DTEND;VALUE=DATE:20260607
DTSTAMP:20260422T163550
CREATED:20260207T021415Z
LAST-MODIFIED:20260226T021510Z
UID:2184-1780704000-1780790399@barrettegraphics.com
SUMMARY:2026 Colorado Senior Games
DESCRIPTION:June 5-7 \nThe Colorado Springs Sports Corporation (Sports Corp) and the YMCA of the Pikes Peak Region are proud to announce the return of the Colorado Senior Games presented by Medicare Mentors\, taking place June 5–7\, 2026\, in Colorado Springs. Now in its second annual year\, the Colorado Senior Games continues to build on the momentum of bringing older adult athletics back to the state\, celebrating health\, wellness\, competition\, and community for participants ages 50 and older. \nWith sports ranging from archery and swimming to pickleball and powerlifting\, there’s something for every athlete. Whether you’re hitting the track or aiming for a perfect billiards shot\, our community of senior competitors welcomes you. Find your sport\, challenge yourself\, and celebrate the joy of competition in your golden years! \nFor a full list of sports categories\, and to register\, visit https://coloradoseniorgames.org/sports/
URL:https://barrettegraphics.com/event/2026-colorado-senior-games-2/
LOCATION:CO
CATEGORIES:Family Fun,Sports
END:VEVENT
BEGIN:VEVENT
DTSTART;TZID=America/Denver:20260606T080000
DTEND;TZID=America/Denver:20260606T120000
DTSTAMP:20260422T163550
CREATED:20260422T175141Z
LAST-MODIFIED:20260422T202123Z
UID:2511-1780732800-1780747200@barrettegraphics.com
SUMMARY:Kids' Fishing Derby
DESCRIPTION:  \n\n** Kids Fishing Derby
URL:https://barrettegraphics.com/event/kids-fishing-derby/
LOCATION:Palmer Lake\, 199 County Line Rd\, Palmer Lake\, CO\, 80133\, United States
CATEGORIES:Community Events,Family,Family Fun,Outdoor,Sports
ATTACH;FMTTYPE=image/jpeg:https://barrettegraphics.com/wp-content/uploads/2026/04/Fishing-Derby.jpg
END:VEVENT
BEGIN:VEVENT
DTSTART;VALUE=DATE:20260607
DTEND;VALUE=DATE:20260608
DTSTAMP:20260422T163550
CREATED:20260226T021415Z
LAST-MODIFIED:20260422T172143Z
UID:2183-1780790400-1780876799@barrettegraphics.com
SUMMARY:2026 Colorado Senior Games
DESCRIPTION:June 5-7 \nThe Colorado Springs Sports Corporation (Sports Corp) and the YMCA of the Pikes Peak Region are proud to announce the return of the Colorado Senior Games presented by Medicare Mentors\, taking place June 5–7\, 2026\, in Colorado Springs. Now in its second annual year\, the Colorado Senior Games continues to build on the momentum of bringing older adult athletics back to the state\, celebrating health\, wellness\, competition\, and community for participants ages 50 and older. \nWith sports ranging from archery and swimming to pickleball and powerlifting\, there’s something for every athlete. Whether you’re hitting the track or aiming for a perfect billiards shot\, our community of senior competitors welcomes you. Find your sport\, challenge yourself\, and celebrate the joy of competition in your golden years! \nFor a full list of sports categories\, and to register\, visit https://coloradoseniorgames.org/sports/
URL:https://barrettegraphics.com/event/2026-colorado-senior-games-3/
LOCATION:CO
CATEGORIES:Family Fun,Sports
END:VEVENT
BEGIN:VEVENT
DTSTART;TZID=America/Denver:20260613T103000
DTEND;TZID=America/Denver:20260613T113000
DTSTAMP:20260422T163550
CREATED:20260422T174206Z
LAST-MODIFIED:20260422T174339Z
UID:2503-1781346600-1781350200@barrettegraphics.com
SUMMARY:PPLD Summer Concerts
DESCRIPTION:Summer is a season for reading\, activities\, and adventure\, and Pikes Peak Library District (PPLD) is changing the way it celebrates reading this summer. \nBrought to you by the Friends of the Pikes Peak Library District\, this year’s Summer Adventure reading program’s celebrations are musical concerts held throughout the summer months\, instead of two parties at the end of the program. \n“We want families to be able to join in one of the concerts that fits into their schedule\,” said Melody Alvarez\, director of programming. “We decided to create opportunities during the summer so more families can join us.” \nThe musicians featured in the concerts are all local family favorites\, Alvarez said. \nMon.\, June 1 | 2 – 3 p.m. & 3:30 – 4:30 p.m. \nLibrary 21c – Katherine Dines \n  \nMon.\, June 1 | 2 – 3 p.m. & 3:30 – 4:30 p.m. \nEast Library – Jodi Koplin \n  \nSat.\, June 13 | 10:30 – 11:30 a.m. \nHigh Prairie Library – Jodi Koplin \n  \nFri.\, July 10 | 6 – 7 p.m. \nPalmer Lake Library – Steve Weeks \n  \nFri.\, July 17 | 9:30 – 10:30 a.m. & 11 a.m. – noon \nFountain Library – Katherine Dines \n  \nWed.\, July 29 | 6 – 7 p.m. \nManitou Springs Library – Steve Weeks \n  \nGo to ppld.org/summer for all the information about this year’s Summer Adventure program.
URL:https://barrettegraphics.com/event/ppld-summer-concerts-2/
LOCATION:CO
CATEGORIES:Family Fun,Music
END:VEVENT
BEGIN:VEVENT
DTSTART;TZID=America/Denver:20260710T180000
DTEND;TZID=America/Denver:20260710T190000
DTSTAMP:20260422T163550
CREATED:20260422T174206Z
LAST-MODIFIED:20260422T174413Z
UID:2505-1783706400-1783710000@barrettegraphics.com
SUMMARY:PPLD Summer Concerts
DESCRIPTION:Summer is a season for reading\, activities\, and adventure\, and Pikes Peak Library District (PPLD) is changing the way it celebrates reading this summer. \nBrought to you by the Friends of the Pikes Peak Library District\, this year’s Summer Adventure reading program’s celebrations are musical concerts held throughout the summer months\, instead of two parties at the end of the program. \n“We want families to be able to join in one of the concerts that fits into their schedule\,” said Melody Alvarez\, director of programming. “We decided to create opportunities during the summer so more families can join us.” \nThe musicians featured in the concerts are all local family favorites\, Alvarez said. \nMon.\, June 1 | 2 – 3 p.m. & 3:30 – 4:30 p.m. \nLibrary 21c – Katherine Dines \n  \nMon.\, June 1 | 2 – 3 p.m. & 3:30 – 4:30 p.m. \nEast Library – Jodi Koplin \n  \nSat.\, June 13 | 10:30 – 11:30 a.m. \nHigh Prairie Library – Jodi Koplin \n  \nFri.\, July 10 | 6 – 7 p.m. \nPalmer Lake Library – Steve Weeks \n  \nFri.\, July 17 | 9:30 – 10:30 a.m. & 11 a.m. – noon \nFountain Library – Katherine Dines \n  \nWed.\, July 29 | 6 – 7 p.m. \nManitou Springs Library – Steve Weeks \n  \nGo to ppld.org/summer for all the information about this year’s Summer Adventure program.
URL:https://barrettegraphics.com/event/ppld-summer-concerts-3/
LOCATION:CO
CATEGORIES:Family Fun,Music
END:VEVENT
BEGIN:VEVENT
DTSTART;TZID=America/Denver:20260717T103000
DTEND;TZID=America/Denver:20260717T120000
DTSTAMP:20260422T163550
CREATED:20260422T174206Z
LAST-MODIFIED:20260422T174451Z
UID:2507-1784284200-1784289600@barrettegraphics.com
SUMMARY:PPLD Summer Concerts
DESCRIPTION:Summer is a season for reading\, activities\, and adventure\, and Pikes Peak Library District (PPLD) is changing the way it celebrates reading this summer. \nBrought to you by the Friends of the Pikes Peak Library District\, this year’s Summer Adventure reading program’s celebrations are musical concerts held throughout the summer months\, instead of two parties at the end of the program. \n“We want families to be able to join in one of the concerts that fits into their schedule\,” said Melody Alvarez\, director of programming. “We decided to create opportunities during the summer so more families can join us.” \nThe musicians featured in the concerts are all local family favorites\, Alvarez said. \nMon.\, June 1 | 2 – 3 p.m. & 3:30 – 4:30 p.m. \nLibrary 21c – Katherine Dines \n  \nMon.\, June 1 | 2 – 3 p.m. & 3:30 – 4:30 p.m. \nEast Library – Jodi Koplin \n  \nSat.\, June 13 | 10:30 – 11:30 a.m. \nHigh Prairie Library – Jodi Koplin \n  \nFri.\, July 10 | 6 – 7 p.m. \nPalmer Lake Library – Steve Weeks \n  \nFri.\, July 17 | 9:30 – 10:30 a.m. & 11 a.m. – noon \nFountain Library – Katherine Dines \n  \nWed.\, July 29 | 6 – 7 p.m. \nManitou Springs Library – Steve Weeks \n  \nGo to ppld.org/summer for all the information about this year’s Summer Adventure program.
URL:https://barrettegraphics.com/event/ppld-summer-concerts-4/
LOCATION:CO
CATEGORIES:Family Fun,Music
END:VEVENT
BEGIN:VEVENT
DTSTART;TZID=America/Denver:20260729T180000
DTEND;TZID=America/Denver:20260729T190000
DTSTAMP:20260422T163550
CREATED:20260422T174206Z
LAST-MODIFIED:20260422T174516Z
UID:2509-1785348000-1785351600@barrettegraphics.com
SUMMARY:PPLD Summer Concerts
DESCRIPTION:Summer is a season for reading\, activities\, and adventure\, and Pikes Peak Library District (PPLD) is changing the way it celebrates reading this summer. \nBrought to you by the Friends of the Pikes Peak Library District\, this year’s Summer Adventure reading program’s celebrations are musical concerts held throughout the summer months\, instead of two parties at the end of the program. \n“We want families to be able to join in one of the concerts that fits into their schedule\,” said Melody Alvarez\, director of programming. “We decided to create opportunities during the summer so more families can join us.” \nThe musicians featured in the concerts are all local family favorites\, Alvarez said. \nMon.\, June 1 | 2 – 3 p.m. & 3:30 – 4:30 p.m. \nLibrary 21c – Katherine Dines \n  \nMon.\, June 1 | 2 – 3 p.m. & 3:30 – 4:30 p.m. \nEast Library – Jodi Koplin \n  \nSat.\, June 13 | 10:30 – 11:30 a.m. \nHigh Prairie Library – Jodi Koplin \n  \nFri.\, July 10 | 6 – 7 p.m. \nPalmer Lake Library – Steve Weeks \n  \nFri.\, July 17 | 9:30 – 10:30 a.m. & 11 a.m. – noon \nFountain Library – Katherine Dines \n  \nWed.\, July 29 | 6 – 7 p.m. \nManitou Springs Library – Steve Weeks \n  \nGo to ppld.org/summer for all the information about this year’s Summer Adventure program.
URL:https://barrettegraphics.com/event/ppld-summer-concerts-5/
LOCATION:CO
CATEGORIES:Family Fun,Music
END:VEVENT
END:VCALENDAR