BEGIN:VCALENDAR
VERSION:2.0
PRODID:-//Barrette Graphics - ECPv6.15.20//NONSGML v1.0//EN
CALSCALE:GREGORIAN
METHOD:PUBLISH
X-ORIGINAL-URL:https://barrettegraphics.com
X-WR-CALDESC:Events for Barrette Graphics
REFRESH-INTERVAL;VALUE=DURATION:PT1H
X-Robots-Tag:noindex
X-PUBLISHED-TTL:PT1H
BEGIN:VTIMEZONE
TZID:America/Denver
BEGIN:DAYLIGHT
TZOFFSETFROM:-0700
TZOFFSETTO:-0600
TZNAME:MDT
DTSTART:20240310T090000
END:DAYLIGHT
BEGIN:STANDARD
TZOFFSETFROM:-0600
TZOFFSETTO:-0700
TZNAME:MST
DTSTART:20241103T080000
END:STANDARD
BEGIN:DAYLIGHT
TZOFFSETFROM:-0700
TZOFFSETTO:-0600
TZNAME:MDT
DTSTART:20250309T090000
END:DAYLIGHT
BEGIN:STANDARD
TZOFFSETFROM:-0600
TZOFFSETTO:-0700
TZNAME:MST
DTSTART:20251102T080000
END:STANDARD
BEGIN:DAYLIGHT
TZOFFSETFROM:-0700
TZOFFSETTO:-0600
TZNAME:MDT
DTSTART:20260308T090000
END:DAYLIGHT
BEGIN:STANDARD
TZOFFSETFROM:-0600
TZOFFSETTO:-0700
TZNAME:MST
DTSTART:20261101T080000
END:STANDARD
END:VTIMEZONE
BEGIN:VEVENT
DTSTART;TZID=America/Denver:20251108T110000
DTEND;TZID=America/Denver:20251108T120000
DTSTAMP:20260420T163844
CREATED:20250926T170057Z
LAST-MODIFIED:20260128T163207Z
UID:1884-1762599600-1762603200@barrettegraphics.com
SUMMARY:All Pikes Peak Reads: Author Meg Long
DESCRIPTION:Pikes Peak Library District (PPLD) has announced their 2025 selections for All Pikes Peak Reads\, its annual community reading program. This year\, the Library District has returned to choosing one book for each age group as it has done in the past. The four selections include: \nFuzz by Mary Roach (adult) \nCold the Night\, Fast the Wolves by Meg Long (teen) \nLittle Monarchs by Jonathan Case (juvenile) \nButterflies Are Pretty…Gross! By Rosemary Mosco (juvenile) \n  \nAll Pikes Peak Reads provides residents with a unique opportunity to feel connected with their community by reading the same book together. The annual program focuses on celebrating literature\, improving community connections\, and fostering dialogue across social\, cultural\, and generational lines. Each year\, PPLD selects titles that focus on timely topics and plans a variety of community-wide programs and activities to pair with the book. This year’s titles all relate to nature\, whether it is exploring the surprising world of butterflies\, surviving in the winter wilderness\, learning about monarch butterfly migration\, or reading about human-wildlife interactions. \nYou may also join Pikes Peak Library District as they welcome this year’s authors to discuss their books during in-person or virtual author visits. Visits will be followed by an audience Q&A. At in-person visits\, the author will be available for book signing following the Q&A\, and books will be available for purchase during the event from Poor Richard’s Books & Gifts. \nRegistration is suggested for the in-person events but not required. When you register for one of the virtual events\, you will receive an email with the link to access the event.  Visit https://ppld.org/appr to register for these discussions: \n  \nAll Pikes Peak Reads Presents: Author Rosemary Mosco: Wed.\, Oct. 1 at 10 a.m.\, Online \nAll Pikes Peak Reads Presents: Author Mary Roach: Sat.\, Oct. 11 at 11 a.m.\, Online \nAll Pikes Peak Reads Presents: Author Meg Long: Sat.\, Nov. 8 at 11 a.m.\, East Library \nAll Pikes Peak Reads Presents: Author and cartoonist Jonathan Case: Sat.\, Nov. 15 at 11 a.m.\, Library 21c
URL:https://barrettegraphics.com/event/all-pikes-peak-reads-3/
LOCATION:CO
CATEGORIES:Community Events,Education,Family Fun
END:VEVENT
BEGIN:VEVENT
DTSTART;TZID=America/Denver:20251115T110000
DTEND;TZID=America/Denver:20251115T120000
DTSTAMP:20260420T163844
CREATED:20250926T170057Z
LAST-MODIFIED:20260128T163207Z
UID:1886-1763204400-1763208000@barrettegraphics.com
SUMMARY:All Pikes Peak Reads: Author and cartoonist Jonathan Case
DESCRIPTION:Pikes Peak Library District (PPLD) has announced their 2025 selections for All Pikes Peak Reads\, its annual community reading program. This year\, the Library District has returned to choosing one book for each age group as it has done in the past. The four selections include: \nFuzz by Mary Roach (adult) \nCold the Night\, Fast the Wolves by Meg Long (teen) \nLittle Monarchs by Jonathan Case (juvenile) \nButterflies Are Pretty…Gross! By Rosemary Mosco (juvenile) \n  \nAll Pikes Peak Reads provides residents with a unique opportunity to feel connected with their community by reading the same book together. The annual program focuses on celebrating literature\, improving community connections\, and fostering dialogue across social\, cultural\, and generational lines. Each year\, PPLD selects titles that focus on timely topics and plans a variety of community-wide programs and activities to pair with the book. This year’s titles all relate to nature\, whether it is exploring the surprising world of butterflies\, surviving in the winter wilderness\, learning about monarch butterfly migration\, or reading about human-wildlife interactions. \nYou may also join Pikes Peak Library District as they welcome this year’s authors to discuss their books during in-person or virtual author visits. Visits will be followed by an audience Q&A. At in-person visits\, the author will be available for book signing following the Q&A\, and books will be available for purchase during the event from Poor Richard’s Books & Gifts. \nRegistration is suggested for the in-person events but not required. When you register for one of the virtual events\, you will receive an email with the link to access the event.  Visit https://ppld.org/appr to register for these discussions: \n  \nAll Pikes Peak Reads Presents: Author Rosemary Mosco: Wed.\, Oct. 1 at 10 a.m.\, Online \nAll Pikes Peak Reads Presents: Author Mary Roach: Sat.\, Oct. 11 at 11 a.m.\, Online \nAll Pikes Peak Reads Presents: Author Meg Long: Sat.\, Nov. 8 at 11 a.m.\, East Library \nAll Pikes Peak Reads Presents: Author and cartoonist Jonathan Case: Sat.\, Nov. 15 at 11 a.m.\, Library 21c
URL:https://barrettegraphics.com/event/all-pikes-peak-reads-author-and-cartoonist-jonathan-case/
LOCATION:CO
CATEGORIES:Community Events,Education,Family Fun
END:VEVENT
BEGIN:VEVENT
DTSTART;TZID=America/Denver:20251126T173000
DTEND;TZID=America/Denver:20251126T173000
DTSTAMP:20260420T163844
CREATED:20251126T044548Z
LAST-MODIFIED:20260128T163207Z
UID:1977-1764178200-1764178200@barrettegraphics.com
SUMMARY:Magic of Lights
DESCRIPTION:Magic of Lights returns to Pikes Peak International Raceway now through January 3. The track will transform into a dazzling drive-through holiday spectacular featuring over two million lights and Colorado’s longest light tunnel. Enjoy festive scenes like Toyland\, Winter Wonderland\, and Reindeer Road\, plus the Jolly Holiday Village with photos with Santa\, s’mores\, and games. Presented by Family Entertainment Live\, this family-friendly experience runs nightly from 5:30–9 p.m. (until 10 p.m. on Fridays and Saturdays) through Saturday\, January 3.  \nPikes Peak International Raceway is located at 6650 Midway Ranch Rd\, Fountain\, CO 80817
URL:https://barrettegraphics.com/event/magic-of-lights-39/
LOCATION:CO
CATEGORIES:Family Fun,Holiday Events
END:VEVENT
BEGIN:VEVENT
DTSTART;TZID=America/Denver:20251127T173000
DTEND;TZID=America/Denver:20251127T173000
DTSTAMP:20260420T163844
CREATED:20251126T044548Z
LAST-MODIFIED:20260128T163148Z
UID:1978-1764264600-1764264600@barrettegraphics.com
SUMMARY:Magic of Lights
DESCRIPTION:Magic of Lights returns to Pikes Peak International Raceway now through January 3. The track will transform into a dazzling drive-through holiday spectacular featuring over two million lights and Colorado’s longest light tunnel. Enjoy festive scenes like Toyland\, Winter Wonderland\, and Reindeer Road\, plus the Jolly Holiday Village with photos with Santa\, s’mores\, and games. Presented by Family Entertainment Live\, this family-friendly experience runs nightly from 5:30–9 p.m. (until 10 p.m. on Fridays and Saturdays) through Saturday\, January 3.  \nPikes Peak International Raceway is located at 6650 Midway Ranch Rd\, Fountain\, CO 80817
URL:https://barrettegraphics.com/event/magic-of-lights-38/
LOCATION:CO
CATEGORIES:Family Fun,Holiday Events
END:VEVENT
BEGIN:VEVENT
DTSTART;TZID=America/Denver:20251128T173000
DTEND;TZID=America/Denver:20251128T173000
DTSTAMP:20260420T163844
CREATED:20251126T044548Z
LAST-MODIFIED:20260128T163148Z
UID:1979-1764351000-1764351000@barrettegraphics.com
SUMMARY:Magic of Lights
DESCRIPTION:Magic of Lights returns to Pikes Peak International Raceway now through January 3. The track will transform into a dazzling drive-through holiday spectacular featuring over two million lights and Colorado’s longest light tunnel. Enjoy festive scenes like Toyland\, Winter Wonderland\, and Reindeer Road\, plus the Jolly Holiday Village with photos with Santa\, s’mores\, and games. Presented by Family Entertainment Live\, this family-friendly experience runs nightly from 5:30–9 p.m. (until 10 p.m. on Fridays and Saturdays) through Saturday\, January 3.  \nPikes Peak International Raceway is located at 6650 Midway Ranch Rd\, Fountain\, CO 80817
URL:https://barrettegraphics.com/event/magic-of-lights-37/
LOCATION:CO
CATEGORIES:Family Fun,Holiday Events
END:VEVENT
BEGIN:VEVENT
DTSTART;TZID=America/Denver:20251129T173000
DTEND;TZID=America/Denver:20251129T173000
DTSTAMP:20260420T163844
CREATED:20251126T044548Z
LAST-MODIFIED:20260128T163148Z
UID:1980-1764437400-1764437400@barrettegraphics.com
SUMMARY:Magic of Lights
DESCRIPTION:Magic of Lights returns to Pikes Peak International Raceway now through January 3. The track will transform into a dazzling drive-through holiday spectacular featuring over two million lights and Colorado’s longest light tunnel. Enjoy festive scenes like Toyland\, Winter Wonderland\, and Reindeer Road\, plus the Jolly Holiday Village with photos with Santa\, s’mores\, and games. Presented by Family Entertainment Live\, this family-friendly experience runs nightly from 5:30–9 p.m. (until 10 p.m. on Fridays and Saturdays) through Saturday\, January 3.  \nPikes Peak International Raceway is located at 6650 Midway Ranch Rd\, Fountain\, CO 80817
URL:https://barrettegraphics.com/event/magic-of-lights-36/
LOCATION:CO
CATEGORIES:Family Fun,Holiday Events
END:VEVENT
BEGIN:VEVENT
DTSTART;TZID=America/Denver:20251130T173000
DTEND;TZID=America/Denver:20251130T173000
DTSTAMP:20260420T163844
CREATED:20251126T044548Z
LAST-MODIFIED:20260128T163148Z
UID:1981-1764523800-1764523800@barrettegraphics.com
SUMMARY:Magic of Lights
DESCRIPTION:Magic of Lights returns to Pikes Peak International Raceway now through January 3. The track will transform into a dazzling drive-through holiday spectacular featuring over two million lights and Colorado’s longest light tunnel. Enjoy festive scenes like Toyland\, Winter Wonderland\, and Reindeer Road\, plus the Jolly Holiday Village with photos with Santa\, s’mores\, and games. Presented by Family Entertainment Live\, this family-friendly experience runs nightly from 5:30–9 p.m. (until 10 p.m. on Fridays and Saturdays) through Saturday\, January 3.  \nPikes Peak International Raceway is located at 6650 Midway Ranch Rd\, Fountain\, CO 80817
URL:https://barrettegraphics.com/event/magic-of-lights-35/
LOCATION:CO
CATEGORIES:Family Fun,Holiday Events
END:VEVENT
END:VCALENDAR