BEGIN:VCALENDAR
VERSION:2.0
PRODID:-//Barrette Graphics - ECPv6.15.20//NONSGML v1.0//EN
CALSCALE:GREGORIAN
METHOD:PUBLISH
X-WR-CALNAME:Barrette Graphics
X-ORIGINAL-URL:https://barrettegraphics.com
X-WR-CALDESC:Events for Barrette Graphics
REFRESH-INTERVAL;VALUE=DURATION:PT1H
X-Robots-Tag:noindex
X-PUBLISHED-TTL:PT1H
BEGIN:VTIMEZONE
TZID:America/Denver
BEGIN:DAYLIGHT
TZOFFSETFROM:-0700
TZOFFSETTO:-0600
TZNAME:MDT
DTSTART:20240310T090000
END:DAYLIGHT
BEGIN:STANDARD
TZOFFSETFROM:-0600
TZOFFSETTO:-0700
TZNAME:MST
DTSTART:20241103T080000
END:STANDARD
BEGIN:DAYLIGHT
TZOFFSETFROM:-0700
TZOFFSETTO:-0600
TZNAME:MDT
DTSTART:20250309T090000
END:DAYLIGHT
BEGIN:STANDARD
TZOFFSETFROM:-0600
TZOFFSETTO:-0700
TZNAME:MST
DTSTART:20251102T080000
END:STANDARD
BEGIN:DAYLIGHT
TZOFFSETFROM:-0700
TZOFFSETTO:-0600
TZNAME:MDT
DTSTART:20260308T090000
END:DAYLIGHT
BEGIN:STANDARD
TZOFFSETFROM:-0600
TZOFFSETTO:-0700
TZNAME:MST
DTSTART:20261101T080000
END:STANDARD
END:VTIMEZONE
BEGIN:VEVENT
DTSTART;TZID=America/Denver:20251001T100000
DTEND;TZID=America/Denver:20251001T110000
DTSTAMP:20260420T181310
CREATED:20250926T162957Z
LAST-MODIFIED:20260128T163208Z
UID:1880-1759312800-1759316400@barrettegraphics.com
SUMMARY:All Pikes Peak Reads: Author Rosemary Mosco
DESCRIPTION:Pikes Peak Library District (PPLD) has announced their 2025 selections for All Pikes Peak Reads\, its annual community reading program. This year\, the Library District has returned to choosing one book for each age group as it has done in the past. The four selections include: \nFuzz by Mary Roach (adult) \nCold the Night\, Fast the Wolves by Meg Long (teen) \nLittle Monarchs by Jonathan Case (juvenile) \nButterflies Are Pretty…Gross! By Rosemary Mosco (juvenile) \n  \nAll Pikes Peak Reads provides residents with a unique opportunity to feel connected with their community by reading the same book together. The annual program focuses on celebrating literature\, improving community connections\, and fostering dialogue across social\, cultural\, and generational lines. Each year\, PPLD selects titles that focus on timely topics and plans a variety of community-wide programs and activities to pair with the book. This year’s titles all relate to nature\, whether it is exploring the surprising world of butterflies\, surviving in the winter wilderness\, learning about monarch butterfly migration\, or reading about human-wildlife interactions. \nYou may also join Pikes Peak Library District as they welcome this year’s authors to discuss their books during in-person or virtual author visits. Visits will be followed by an audience Q&A. At in-person visits\, the author will be available for book signing following the Q&A\, and books will be available for purchase during the event from Poor Richard’s Books & Gifts. \nRegistration is suggested for the in-person events but not required. When you register for one of the virtual events\, you will receive an email with the link to access the event.  Visit https://ppld.org/appr to register for these discussions: \n  \nAll Pikes Peak Reads Presents: Author Rosemary Mosco: Wed.\, Oct. 1 at 10 a.m.\, Online \nAll Pikes Peak Reads Presents: Author Mary Roach: Sat.\, Oct. 11 at 11 a.m.\, Online \nAll Pikes Peak Reads Presents: Author Meg Long: Sat.\, Nov. 8 at 11 a.m.\, East Library \nAll Pikes Peak Reads Presents: Author and cartoonist Jonathan Case: Sat.\, Nov. 15 at 11 a.m.\, Library 21c
URL:https://barrettegraphics.com/event/all-pikes-peak-reads/
LOCATION:CO
CATEGORIES:Community Events,Education,Family Fun
END:VEVENT
BEGIN:VEVENT
DTSTART;TZID=America/Denver:20251004T090000
DTEND;TZID=America/Denver:20251004T160000
DTSTAMP:20260420T181310
CREATED:20250926T164539Z
LAST-MODIFIED:20260128T163208Z
UID:1896-1759568400-1759593600@barrettegraphics.com
SUMMARY:Miners Pumpkin Patch
DESCRIPTION:Western Museum of Mining and Industry \nEvery Saturday in October \n9:00 a.m. – 4:00 p.m. \n225 North Gate Blvd\, Colorado Springs \nGet ready for hayrides\, pumpkin picking\, lawn games\, food trucks\, and so much MORE. Each weekend brings something new — from magical moments with a real magician to up-close animal encounters and surprise guest appearances you won’t want to miss! \nIt’s fall-filled fun you’ll want to come back for again and again. See you there!  Visit wmmi.org for more information.
URL:https://barrettegraphics.com/event/miners-pumpkin-patch-2025/
LOCATION:Western Museum of Mining and Industry\, 225 Northgate Blvd\, Colorado Springs\, CO\, 80921\, United States
CATEGORIES:Family Fun,Holiday Events
END:VEVENT
BEGIN:VEVENT
DTSTART;TZID=America/Denver:20251011T090000
DTEND;TZID=America/Denver:20251011T160000
DTSTAMP:20260420T181310
CREATED:20250926T164539Z
LAST-MODIFIED:20260128T163208Z
UID:1898-1760173200-1760198400@barrettegraphics.com
SUMMARY:Miners Pumpkin Patch
DESCRIPTION:Western Museum of Mining and Industry \nEvery Saturday in October \n9:00 a.m. – 4:00 p.m. \n225 North Gate Blvd\, Colorado Springs \nGet ready for hayrides\, pumpkin picking\, lawn games\, food trucks\, and so much MORE. Each weekend brings something new — from magical moments with a real magician to up-close animal encounters and surprise guest appearances you won’t want to miss! \nIt’s fall-filled fun you’ll want to come back for again and again. See you there!  Visit wmmi.org for more information.
URL:https://barrettegraphics.com/event/miners-pumpkin-patch-2025-11/
LOCATION:Western Museum of Mining and Industry\, 225 Northgate Blvd\, Colorado Springs\, CO\, 80921\, United States
CATEGORIES:Family Fun,Holiday Events
END:VEVENT
BEGIN:VEVENT
DTSTART;TZID=America/Denver:20251011T110000
DTEND;TZID=America/Denver:20251011T120000
DTSTAMP:20260420T181310
CREATED:20250926T170057Z
LAST-MODIFIED:20260128T163207Z
UID:1882-1760180400-1760184000@barrettegraphics.com
SUMMARY:All Pikes Peak Reads: Author Mary Roach
DESCRIPTION:Pikes Peak Library District (PPLD) has announced their 2025 selections for All Pikes Peak Reads\, its annual community reading program. This year\, the Library District has returned to choosing one book for each age group as it has done in the past. The four selections include: \nFuzz by Mary Roach (adult) \nCold the Night\, Fast the Wolves by Meg Long (teen) \nLittle Monarchs by Jonathan Case (juvenile) \nButterflies Are Pretty…Gross! By Rosemary Mosco (juvenile) \n  \nAll Pikes Peak Reads provides residents with a unique opportunity to feel connected with their community by reading the same book together. The annual program focuses on celebrating literature\, improving community connections\, and fostering dialogue across social\, cultural\, and generational lines. Each year\, PPLD selects titles that focus on timely topics and plans a variety of community-wide programs and activities to pair with the book. This year’s titles all relate to nature\, whether it is exploring the surprising world of butterflies\, surviving in the winter wilderness\, learning about monarch butterfly migration\, or reading about human-wildlife interactions. \nYou may also join Pikes Peak Library District as they welcome this year’s authors to discuss their books during in-person or virtual author visits. Visits will be followed by an audience Q&A. At in-person visits\, the author will be available for book signing following the Q&A\, and books will be available for purchase during the event from Poor Richard’s Books & Gifts. \nRegistration is suggested for the in-person events but not required. When you register for one of the virtual events\, you will receive an email with the link to access the event.  Visit https://ppld.org/appr to register for these discussions: \n  \nAll Pikes Peak Reads Presents: Author Rosemary Mosco: Wed.\, Oct. 1 at 10 a.m.\, Online \nAll Pikes Peak Reads Presents: Author Mary Roach: Sat.\, Oct. 11 at 11 a.m.\, Online \nAll Pikes Peak Reads Presents: Author Meg Long: Sat.\, Nov. 8 at 11 a.m.\, East Library \nAll Pikes Peak Reads Presents: Author and cartoonist Jonathan Case: Sat.\, Nov. 15 at 11 a.m.\, Library 21c
URL:https://barrettegraphics.com/event/all-pikes-peak-reads-2/
LOCATION:CO
CATEGORIES:Community Events,Education,Family Fun
END:VEVENT
BEGIN:VEVENT
DTSTART;TZID=America/Denver:20251018T090000
DTEND;TZID=America/Denver:20251018T160000
DTSTAMP:20260420T181310
CREATED:20250926T164539Z
LAST-MODIFIED:20260128T163207Z
UID:1900-1760778000-1760803200@barrettegraphics.com
SUMMARY:Miners Pumpkin Patch
DESCRIPTION:Western Museum of Mining and Industry \nEvery Saturday in October \n9:00 a.m. – 4:00 p.m. \n225 North Gate Blvd\, Colorado Springs \nGet ready for hayrides\, pumpkin picking\, lawn games\, food trucks\, and so much MORE. Each weekend brings something new — from magical moments with a real magician to up-close animal encounters and surprise guest appearances you won’t want to miss! \nIt’s fall-filled fun you’ll want to come back for again and again. See you there!  Visit wmmi.org for more information.
URL:https://barrettegraphics.com/event/miners-pumpkin-patch-2025-18/
LOCATION:Western Museum of Mining and Industry\, 225 Northgate Blvd\, Colorado Springs\, CO\, 80921\, United States
CATEGORIES:Family Fun,Holiday Events
END:VEVENT
BEGIN:VEVENT
DTSTART;TZID=America/Denver:20251025T090000
DTEND;TZID=America/Denver:20251025T160000
DTSTAMP:20260420T181310
CREATED:20250926T164539Z
LAST-MODIFIED:20260128T163207Z
UID:1902-1761382800-1761408000@barrettegraphics.com
SUMMARY:Miners Pumpkin Patch
DESCRIPTION:Western Museum of Mining and Industry \nEvery Saturday in October \n9:00 a.m. – 4:00 p.m. \n225 North Gate Blvd\, Colorado Springs \nGet ready for hayrides\, pumpkin picking\, lawn games\, food trucks\, and so much MORE. Each weekend brings something new — from magical moments with a real magician to up-close animal encounters and surprise guest appearances you won’t want to miss! \nIt’s fall-filled fun you’ll want to come back for again and again. See you there!  Visit wmmi.org for more information.
URL:https://barrettegraphics.com/event/miners-pumpkin-patch-2025-25/
LOCATION:Western Museum of Mining and Industry\, 225 Northgate Blvd\, Colorado Springs\, CO\, 80921\, United States
CATEGORIES:Family Fun,Holiday Events
END:VEVENT
BEGIN:VEVENT
DTSTART;TZID=America/Denver:20251025T103000
DTEND;TZID=America/Denver:20251025T170000
DTSTAMP:20260420T181310
CREATED:20250926T164117Z
LAST-MODIFIED:20260128T163207Z
UID:1891-1761388200-1761411600@barrettegraphics.com
SUMMARY:Creepy Crawl 5K
DESCRIPTION:Join the Pikes Peak YMCA for the 17th annual Creepy Crawl 5K and Kids’ Monster Dash at the spooky yet beautiful Palmer Lake Santa Fe Trailhead. Costumes are encouraged\, and there will be treasure to be had along the way. You’ll have a great time while making it possible for our friends and neighbors in need to access membership and programs at the Y. Register early to get your Creepy Crawl T-Shirt. Day of registration not guaranteed a shirt that day. \nSaturday\, October 25\, 10:30 a.m. \nPalmer Lake Santa Fe Trail in Palmer Lake \nRegister here: https://runsignup.com/Race/CO/PalmerLake/CreepyCrawl5K
URL:https://barrettegraphics.com/event/creepy-crawl-5k-3/
LOCATION:Palmer Lake\, 199 County Line Rd\, Palmer Lake\, CO\, 80133\, United States
CATEGORIES:Community Events,Family Fun,Holiday Events,Outdoor
END:VEVENT
BEGIN:VEVENT
DTSTART;TZID=America/Denver:20251031T160000
DTEND;TZID=America/Denver:20251031T180000
DTSTAMP:20260420T181310
CREATED:20250926T164350Z
LAST-MODIFIED:20260128T163207Z
UID:1893-1761926400-1761933600@barrettegraphics.com
SUMMARY:Downtown Monument Safe Trick or Treat
DESCRIPTION:Bring the kids downtown for a night of safe trick-or-treating as Monument merchants provide treats\, activities and show-off their creative costumes. \nFriday\, October 31\, 4:00-6:00 p.m. in downtown Monument
URL:https://barrettegraphics.com/event/downtown-monument-safe-trick-or-treat/
LOCATION:Downtown Monument\, Monument\, CO\, 80132\, United States
CATEGORIES:Family Fun,Holiday Events
END:VEVENT
END:VCALENDAR