BEGIN:VCALENDAR
VERSION:2.0
PRODID:-//Barrette Graphics - ECPv6.15.20//NONSGML v1.0//EN
CALSCALE:GREGORIAN
METHOD:PUBLISH
X-WR-CALNAME:Barrette Graphics
X-ORIGINAL-URL:https://barrettegraphics.com
X-WR-CALDESC:Events for Barrette Graphics
REFRESH-INTERVAL;VALUE=DURATION:PT1H
X-Robots-Tag:noindex
X-PUBLISHED-TTL:PT1H
BEGIN:VTIMEZONE
TZID:America/Denver
BEGIN:DAYLIGHT
TZOFFSETFROM:-0700
TZOFFSETTO:-0600
TZNAME:MDT
DTSTART:20240310T090000
END:DAYLIGHT
BEGIN:STANDARD
TZOFFSETFROM:-0600
TZOFFSETTO:-0700
TZNAME:MST
DTSTART:20241103T080000
END:STANDARD
BEGIN:DAYLIGHT
TZOFFSETFROM:-0700
TZOFFSETTO:-0600
TZNAME:MDT
DTSTART:20250309T090000
END:DAYLIGHT
BEGIN:STANDARD
TZOFFSETFROM:-0600
TZOFFSETTO:-0700
TZNAME:MST
DTSTART:20251102T080000
END:STANDARD
BEGIN:DAYLIGHT
TZOFFSETFROM:-0700
TZOFFSETTO:-0600
TZNAME:MDT
DTSTART:20260308T090000
END:DAYLIGHT
BEGIN:STANDARD
TZOFFSETFROM:-0600
TZOFFSETTO:-0700
TZNAME:MST
DTSTART:20261101T080000
END:STANDARD
END:VTIMEZONE
BEGIN:VEVENT
DTSTART;TZID=America/Denver:20250602T100000
DTEND;TZID=America/Denver:20250602T120000
DTSTAMP:20260421T072322
CREATED:20250529T064007Z
LAST-MODIFIED:20250529T064007Z
UID:1633-1748858400-1748865600@barrettegraphics.com
SUMMARY:2025 PPLD Summer Adventure
DESCRIPTION:PPLD’s Summer Adventure returns for its 51st year with reading\, exploration\, and creation activities for all ages. Kids earn books and prizes\, adults enter to win big. Register starting June 2!
URL:https://barrettegraphics.com/event/2025-ppld-summer-adventure/
CATEGORIES:Education,Family
END:VEVENT
END:VCALENDAR