BEGIN:VCALENDAR
VERSION:2.0
PRODID:-//Barrette Graphics - ECPv6.15.20//NONSGML v1.0//EN
CALSCALE:GREGORIAN
METHOD:PUBLISH
X-WR-CALNAME:Barrette Graphics
X-ORIGINAL-URL:https://barrettegraphics.com
X-WR-CALDESC:Events for Barrette Graphics
REFRESH-INTERVAL;VALUE=DURATION:PT1H
X-Robots-Tag:noindex
X-PUBLISHED-TTL:PT1H
BEGIN:VTIMEZONE
TZID:America/Denver
BEGIN:DAYLIGHT
TZOFFSETFROM:-0700
TZOFFSETTO:-0600
TZNAME:MDT
DTSTART:20230312T090000
END:DAYLIGHT
BEGIN:STANDARD
TZOFFSETFROM:-0600
TZOFFSETTO:-0700
TZNAME:MST
DTSTART:20231105T080000
END:STANDARD
BEGIN:DAYLIGHT
TZOFFSETFROM:-0700
TZOFFSETTO:-0600
TZNAME:MDT
DTSTART:20240310T090000
END:DAYLIGHT
BEGIN:STANDARD
TZOFFSETFROM:-0600
TZOFFSETTO:-0700
TZNAME:MST
DTSTART:20241103T080000
END:STANDARD
BEGIN:DAYLIGHT
TZOFFSETFROM:-0700
TZOFFSETTO:-0600
TZNAME:MDT
DTSTART:20250309T090000
END:DAYLIGHT
BEGIN:STANDARD
TZOFFSETFROM:-0600
TZOFFSETTO:-0700
TZNAME:MST
DTSTART:20251102T080000
END:STANDARD
END:VTIMEZONE
BEGIN:VEVENT
DTSTART;TZID=America/Denver:20241130T100000
DTEND;TZID=America/Denver:20241130T180000
DTSTAMP:20260421T125517
CREATED:20241026T024305Z
LAST-MODIFIED:20241026T024305Z
UID:1221-1732960800-1732989600@barrettegraphics.com
SUMMARY:Shop Small Business Saturday
DESCRIPTION:Celebrate at locally-owned businesses in historic downtown with special holiday events and offers on Saturday\, November 30\, 10:00 a.m. – 6:00 p.m. When you shop locally\, rather than online or in other cities\, more revenue stays here\, and that directly benefits this community. This is the most important shopping day of the year for our local economy. Shopping and dining at locally owned businesses may not seem like such a big deal\, but the economic impact is vitally important to the economic health of our town.  \nSmall Business Saturday is a day dedicated to supporting small businesses and communities across the country and is part of the larger Shop Small Movement. Founded by American Express in 2010\, this day is celebrated each year on the Saturday after Thanksgiving in the U.S. \nChristmas Stroll in Old Colorado City \nKick off the holiday season with a special evening in Old Colorado City\, Colorado Avenue & 25th Street in Colorado Springs on Saturday\, November 30\, 5:00-8:00 p.m.
URL:https://barrettegraphics.com/event/shop-small-business-saturday/
CATEGORIES:Community Events
END:VEVENT
END:VCALENDAR